BEGIN:VCALENDAR
VERSION:2.0
PRODID:-//wp-events-plugin.com//7.2.3.1//EN
TZID:Australia/Sydney
X-WR-TIMEZONE:Australia/Sydney
BEGIN:VEVENT
UID:310@unswoc.org
DTSTART;VALUE=DATE:20131012
DTEND;VALUE=DATE:20131013
DTSTAMP:20131001T215858Z
URL:https://unswoc.org/wordpress/events/boree-log-bushwalk/
SUMMARY:Boree Log Bushwalk
DESCRIPTION:Bushwalking trip for the Saturday of Boree Log.\n\nI want to ch
 eck out one of the walks close to Mt Wilson\, there are a few choices but 
 most probably the Mount Banks walk: http://bushwalkingnsw.com/walk.php?nid
 =721\n\nThere is also an interesting walk near Mt Irvine which goes past a
 n awesome tesselated pavement rock formation\, that's also an option\, but
  is only short so we'd need to find another one to link it to: http://bush
 walkingnsw.com/walk.php?nid=734\n\nCan take up to 10 people (we'll need to
  drive to the start of the walk most likely). We'll aim to start by 9am an
 d be back by 4ish. Open to ideas for other walks\, send me a message if yo
 u have a walk you want to do!\n\nBring good enclosed walking/hiking shoes\
 , food for lunch\, at least 1.5L of water\, sunscreen.\n\nShould be a good
  day with awesome views :)
CATEGORIES:Boree Log,Bushwalking
LOCATION:\, \, 
X-APPLE-STRUCTURED-LOCATION;VALUE=URI;X-ADDRESS=\, ;X-APPLE-RADIUS=100;X-TI
 TLE=:geo:0,0
END:VEVENT
END:VCALENDAR