BEGIN:VCALENDAR
VERSION:2.0
PRODID:-//wp-events-plugin.com//7.2.3.1//EN
TZID:Australia/Sydney
X-WR-TIMEZONE:Australia/Sydney
BEGIN:VEVENT
UID:309@unswoc.org
DTSTART;VALUE=DATE:20131012
DTEND;VALUE=DATE:20131013
DTSTAMP:20131001T184017Z
URL:https://unswoc.org/wordpress/events/boree-log-beginners-canyoning/
SUMMARY:Boree Log - Beginners Canyoning I
DESCRIPTION:Canyoning trip here for beginners. Abseiling experience not req
 uired as you will be taught the ropes on the trip \;).\n\nMaximum of 10 pe
 ople (2 car loads).\n\nWe will be meeting and leaving from Mt Wilson on Sa
 turday morning. If you would like to come directly from Sydney and meet us
  there\, let me know!\n\nGear Required:\n\n	Sturdy enclosed shoes and sock
 s. (If you bring thongs\, you will be left at the car)\n	Water Bottle\n	Ha
 rness and belay device (the club has some but bring yours if you have it)\
 n	Wetsuit (again\, the club has some but bring yours if you have it)\n	A l
 ittle bit of food\n	Thermals go well under your wetsuit if you feel the co
 ld\n\nThe plan at the moment is to do the Empress Falls / Grand Canyon dou
 ble header provided we have time. Also\, if we end up with a group of reas
 onably experienced people\, we may head out and do something more challeng
 ing.\n\n&nbsp\;\n\nLooking forward to it. If you have any questions\, PM m
 e on Facebook.
CATEGORIES:Boree Log,Canyoning
LOCATION:Conservation Hut\, Wentworth Falls\, \, 
GEO:0.000000;0.000000
X-APPLE-STRUCTURED-LOCATION;VALUE=URI;X-ADDRESS=\, ;X-APPLE-RADIUS=100;X-TI
 TLE=Conservation Hut\, Wentworth Falls:geo:0.000000,0.000000
END:VEVENT
END:VCALENDAR