BEGIN:VCALENDAR
VERSION:2.0
PRODID:-//wp-events-plugin.com//7.2.3.1//EN
TZID:Australia/Sydney
X-WR-TIMEZONE:Australia/Sydney
BEGIN:VEVENT
UID:2119@unswoc.org
DTSTART:20170331T200000Z
DTEND:20170401T060000Z
DTSTAMP:20170330T095840Z
URL:https://unswoc.org/wordpress/events/boree-log-beginners-canyoning-woll
 angambe-saturday/
SUMMARY:FULL Boree Log Beginners Canyoning - Wollangambe (Saturday)
DESCRIPTION:&nbsp\;\n\n\n\nHey guys! It's Boree Log time! Woohooo! Chris\, 
 Manon and myself will be leading a beginner Wollangambe canyoning trip on 
 Saturday\, don't miss out on this if you're looking some fun times \;)\n\n
 What exactly are we doing?\n\nIn this trip\, Manon\, Chris and myself will
  take you on a creek walking\, little swims\, and fun floating on lilos th
 rough the beautiful Wollgambe Creek. You’ll be wet most of the time so w
 etsuits are required. This trip will take the entire day. Once we finished
  following the creek\, we’ll change back into dry clothings and we’ll 
 have to do a bit of hike back to the car park. This trip is fun and quite 
 easy to do\, there will be plenty of time to chat and race and push each o
 ther on lilos\, perfect for beginner canyoners or more experienced canyone
 rs who wants more fun and less thinking.\n\n&nbsp\;\n\nAny particular requ
 ired skills?\n\nEasy! As long as you guys don’t mind doing a bit of hike
 \, a bit of walking through creek\, and know how to swim\, you’ve ticked
  all the requirements.  \;)\n\n&nbsp\;\n\nWhat do you need to bring?\n\nT
 hese following equipments\, if you don’t have them\, please shoot a mess
 age to us straight away and we can provide it for you\n\n	Wetsuit\n	Helmet
 \n\nThese following things\, you gotta bring it yourself:\n\n	Dry clothes 
 and towel\n	Boardshorts or any shorts\, to put over your wetsuit to preven
 t wetsuit damage\n	Enclosed shoes with good grip (these are going to get w
 et and muddy)\n	Dry thermals (top and bottom if you’re the type that eas
 ily gets cold)\n	Woolen socks (don’t wear cotton or your feet will get v
 ery very cold like ice cream)\n	Lunch \n	Snacks\n	At least 2L of drinking 
 water\n	Torch (hand torch or head torch incase we run out of sunlight in e
 mergency cases)\n	Dry bag (these are waterproof bags that goes into your b
 ackpack to keep your things dry such as your food\, clothings\, torches et
 c. You can get them from outdoors equipment store such as Mountain Designs
 \n	Backpack that you don’t mind getting wet\, dirty and (hopefully not) 
 damaged\n\n&nbsp\;\n\nAny questions\, we give you permission to be annoyin
 g and shoot us a lot of messages okay? :)\n\nCheers! Bayu\, Manon &amp\; C
 hris\n\n&nbsp\;
END:VEVENT
END:VCALENDAR