BEGIN:VCALENDAR
VERSION:2.0
PRODID:-//wp-events-plugin.com//7.2.3.1//EN
TZID:Australia/Sydney
X-WR-TIMEZONE:Australia/Sydney
BEGIN:VEVENT
UID:1476@unswoc.org
DTSTART;VALUE=DATE:20151101
DTEND;VALUE=DATE:20151102
DTSTAMP:20151026T012637Z
URL:https://unswoc.org/wordpress/events/boree-log-beginners-canyoning-donk
 ey-mountain/
SUMMARY:Boree Log Sunday Canyoning - Donkey Mountain
DESCRIPTION:On Sunday I'd like to climb Donkey Mountain and visit Donkey an
 d Titanic canyons.\n\nThe mountain has been described as "about as close a
 s I can imagine to what bushwalker heaven might be like. An amazing island
  of rock\, soaring out of the valley\, ringed by towering cliffs\, dotted 
 with distinctive pagodas\, the rock fractured by countless cracks\, canyon
 s and caves all waiting to be explored."\n\nThere is a steep and hard clim
 b up to the mountain - then we'll have lunch and see what we can find\n\n 
 Geoff Fox's famous sketch map of part of Donkey Mountain.
CATEGORIES:Boree Log,Bushwalking,Canyoning
LOCATION:Donkey Mountain\, Wolgan Road\, Newnes\, NSW\, Australia
GEO:-33.230915;150.181763
X-APPLE-STRUCTURED-LOCATION;VALUE=URI;X-ADDRESS=Wolgan Road\, Newnes\, NSW\
 , Australia;X-APPLE-RADIUS=100;X-TITLE=Donkey Mountain:geo:-33.230915,150.
 181763
END:VEVENT
END:VCALENDAR