BEGIN:VCALENDAR
VERSION:2.0
PRODID:-//wp-events-plugin.com//7.2.3.1//EN
TZID:Australia/Sydney
X-WR-TIMEZONE:Australia/Sydney
BEGIN:VEVENT
UID:644@unswoc.org
DTSTART:20141031T130000Z
DTEND:20141101T070000Z
DTSTAMP:20141026T125802Z
URL:https://unswoc.org/wordpress/events/boree-log-beginner-hiking-saturday
 /
SUMMARY:BOREE LOG - Beginner hiking - SATURDAY
DESCRIPTION:Hey guys!!\n\nSo on Saturday we plan to do the Mountaineer-Glow
 ang trail!\nThis one of the most beautiful walks in the Barrington tops. W
 e spend the majority of the hike walking along a ridge and thus get spoilt
  with spectacular views throughout the majority of the hike. After a few
  hours of ridge climbing we'll get to Gloucester falls. Here we'll stop fo
 r lunch and do the Gloucester falls walking track to check out the lookout
 s and the beautiful waterfalls!!\nAfter this\, depending on how tired we a
 re\, we can either do the Gloucester tops circuit track or retrace our ste
 ps back to the cars for\, hopefully a late-afternoon finish.\n\nIt is a 2 
 hour drive to this hike so that means we will have to be IN the cars and l
 eaving at 8am on Saturday morning. If you are not ready you will be left b
 ehind\n\nTo bring:\n\n	Water - AT LEAST a litre\n	snacks - keep your energ
 y up!!\n	Lunch\n	Sunscreen - It is going to be a VERY hot day and we wont 
 have tree protection the whole time\n	a head torch - This is not essential
  but If you have one PLEASE bring it\n	Enclosed shoes\n\nIf you have anyth
 ing you'd like to ask PLEASE feel free to call me on 0408370536 or send me
  a message on facebook!\n\n
CATEGORIES:Bushwalking
END:VEVENT
END:VCALENDAR