BEGIN:VCALENDAR
VERSION:2.0
PRODID:-//wp-events-plugin.com//7.2.3.1//EN
TZID:Australia/Sydney
X-WR-TIMEZONE:Australia/Sydney
BEGIN:VEVENT
UID:450@unswoc.org
DTSTART:20140322T210000Z
DTEND:20140323T020000Z
DTSTAMP:20140316T155029Z
URL:https://unswoc.org/wordpress/events/boree-log-beginner-canyon-fortress
 -canyon/
SUMMARY:Boree Log Beginner Canyon - Fortress Canyon
DESCRIPTION:We'll be running a trip through Fortress canyon on Sunday of Bo
 ree Log. It is a nice beginners canyon with a couple of down-climbs and 
 awesome water jumps (one of 6 metres!). Trip will probably take about 4 
 hours car-to-car and we'll be leaving camp around 8am Sunday.\n\n&nbsp\;\n
 \nYOU WILL REQUIRE:\n\n1. A WETSUIT AND SWIMMERS – the water is too cold
  to swim without a wetsuit. You can buy cheap wetsuits second hand from Vi
 nnies and other second hand stores.\n\n2. ENCLOSED SHOES WITH GOOD TRACTIO
 N such as sandshoes or volleys – No flip flops\, no sandals or crocs. Yo
 u can buy volleys from Big W for $20. Wear warm woollen socks too.\n\n3. B
 ACKPACK and DRY BAG – that can fit a wetsuit\, lunch/snacks\, sunscreen\
 , and a warm jacket. This bag will get wet. This canyon requires several j
 umps and slides\, so it is NOT possible to carry items in your hands. You 
 will also need a dry bag inside your backpack to keep your lunch and other
  items dry. If you do not have a dry bag\, you can bring at least 4 heavy 
 duty garbage bags (the thickest possible bags you can buy).\n\n4. HELMET 
 – climbing or bicycle helmet\, there are a number of jumps and slides in
  this canyon\, a helmet will be required to attend this trip.\n\n5. TORCH 
 – preferably a head torch. We should be out well before dark – but you
  never know and we should be prepared in case the trip takes longer than e
 xpected.
CATEGORIES:Boree Log,Canyoning
END:VEVENT
END:VCALENDAR