BEGIN:VCALENDAR
VERSION:2.0
PRODID:-//wp-events-plugin.com//7.2.3.1//EN
TZID:Australia/Sydney
X-WR-TIMEZONE:Australia/Sydney
BEGIN:VEVENT
UID:2077@unswoc.org
DTSTART;VALUE=DATE:20161028
DTEND;VALUE=DATE:20161031
DTSTAMP:20161018T044428Z
URL:https://unswoc.org/wordpress/events/boree-log-28-30th-oct-2016-your-wo
 rst-fears/
SUMMARY:BOREE LOG 28-30th Oct 2016 - 'Your worst fears'
DESCRIPTION:To those of you familiar\, no description is required. To the n
 ew people Boree Log is the club’s bi-annual trip where EVERYONE is enco
 uraged to come out to the great outdoors to participate in Climbing\, Cany
 oning\, Bushwalking\, Caving\, Slack-lining or whatever takes your fancy!
  Never mind if you have no experience with these things\, this is your cha
 nce to give it a go!\n\nLOCATION: \n\nBungonia National Park.\n\nhttp://w
 ww.nationalparks.nsw.gov.au/camping-and-accommodation/campgrounds/bungonia
 -campground\n\nSCHEDULE:\n\n	FRIDAY NIGHT:\n\n	Everyone drives to Bungonia
  and camps. You will be expected to arrange your own lifts on the Boree Lo
 g FB transport Page.\n\n\n	SATURDAY DAYTIME:\n\n	Climbing/canyoning/bushwa
 lking/Slacklining/Caving - whatever you sign up for (note that you need to
  sign up to THIS EVENT to get a spot on Boree Log\, and then you need to S
 IGN UP SEPARATELY to individual trips)\n\n\n	SATURDAY NIGHT: THEME - YOUR 
 WORST FEAR\n\n	On Saturday night we'll feast (provided)* and partaaaaay! T
 he theme is 'Your worst fear'\, so your costume should represent WHAT FILL
 S YOUR HEART WITH DREAD\, whether it be spiders\, death\, diarrhoea\, wint
 er canyoning without a wetsuit or Abi's sense of humour. If you're one of 
 those who claims to have no fears\, then come in something that will scare
  the crap out of everyone else! (i.e. Halloween costumes are everywhere\, 
 so you really have no excuse)\n\n	And really\, don't be that person who ma
 kes no effort to dress up then tries to sprout bullshit like "I'm terrifie
 d of being myself". That is NOT OK. Ok?\n\n\n	There will also be Punch of 
 Punishment. Don't forget to nominate any friends who have done silly or hu
 morous things during the year!\n	BYO alcohol folks\n\n\n	SUNDAY DAYTIME:\n
 \n	Climbing/canyoning/bushwalking/Slacklining/Caving - whatever you sign u
 p for (note that you need to sign up SEPARATELY to individual trips)\n	And
  driving back to Sydney (your responsibility to arrange transport with tho
 se on the same trips as you)\n\n\n\nWHAT TO BRING:\n\nIf you don’t know 
 what to bring\, here's a useful guide (http://unswoc.org/wordpress/events-
 18/boree-log-packing-list/ ) The club will be able to provide you technic
 al equipment\, but if you have your own wetsuits\, harnesses\, misc climbi
 ng gear etc.\, please bring it\, because supplies are limited. The club wi
 ll also have a number of tents for people to sleep in\, but again\, if you
  have your own\, bring it also. The club has NO sleeping mats or sleeping 
 bags. It'll be colder than in Sydney\, so at least bring a dooner and a ch
 eap yoga mat from kmart if you don't have a sleeping bag.\n\nIf you are ca
 nyoning\, try to bring your own wetsuit\n\n*Food is only provided on Satur
 day night. PLEASE BRING YOUR OWN FOOD for the rest of the weekend!\n\nCOST
 :\n\n$28\n\nincludes: 2 nights camping at $12 per person per night + $4.50
  to drive cars into the national park.\n\nThese are the compulsory fees ch
 arged by the Bungonia State Conversation Office\, not us. We don't charge 
 for Boree Log activities :)\n\n&nbsp\;\n\nNo doubt you will have questions
 \, so please read this FAQ\, and if that doesn’t answer your questions g
 et in contact with us on the club’s Facebook page and we will try to hel
 p you out.
CATEGORIES:Boree Log
END:VEVENT
END:VCALENDAR