BEGIN:VCALENDAR
VERSION:2.0
PRODID:-//wp-events-plugin.com//7.2.3.1//EN
TZID:Australia/Sydney
X-WR-TIMEZONE:Australia/Sydney
BEGIN:VEVENT
UID:2628@unswoc.org
DTSTART;TZID=Australia/Sydney;VALUE=DATE:20200321
DTEND;TZID=Australia/Sydney;VALUE=DATE:20200323
DTSTAMP:20200315T061129Z
URL:https://unswoc.org/wordpress/events/boree-log-21-22-march-2020-theme-p
 andemic/
SUMMARY:BOREE LOG 21-22 March 2020 – cancelled!
DESCRIPTION:\nBOREE LOG 21-22 March 2020 – cancelled!\n\n\n\n\n\nGet SUPE
 R MEGA KEEN because the most amazing weekend of the year is here! To those
  of you familiar\, no description is required. To the new people\, Boree L
 og is the club’s bi-annual trip where EVERYONE is encouraged to come out
  to the great outdoors to participate in Climbing\, Canyoning\, Bushwalkin
 g\, Caving\, Slack-lining\, Kayaking or whatever takes your fancy! Never m
 ind if you have no experience with these things\, this is your chance to g
 ive it a go!\n\n(like all our trips you need to be a current member to att
 end)\n\nLOCATION: \n\nBendeela Recreation Area (Kangaroo River) - HERE\n
 \nSCHEDULE:\n\n 	FRIDAY NIGHT:\n\n 	Everyone drives to Bendeela Recreation
  Area and camps. You need to arrange your own lifts on the Boree Log FB tr
 ansport Page – remember to split petrol costs with the other people in y
 our car. You need to arrange your tent and sleeping bag.\n 	There may not 
 be phone service at the campsite so keep this in mind!\n\n\n 	SATURDAY DAY
 TIME:\n\n 	Climbing/canyoning/bushwalking/slacklining/caving – whatever 
 trip you sign up for (note that you need to sign up to THIS EVENT to get a
  spot on Boree Log\, and then you need to SIGN UP SEPARATELY to individual
  trips posted on this website. Max 1 trip per day)\n\n\n 	SATURDAY NIGHT: 
 THEMED PARTY NIGHT!\n\n 	On Saturday night we’ll feast (provided)* and F
 IESTA!\n 	There will also be a Punch of Punishment. Don’t forget to nomi
 nate any friends who have done silly or humorous things during the year!\n
  	BYO alcohol\n 	*Food is only provided on Saturday night. PLEASE BRING YO
 UR OWN FOOD for the rest of the weekend\n\n\n 	SUNDAY DAYTIME:\n\n 	Climbi
 ng/canyoning/bushwalking/Slacklining/Caving – whatever you sign up for (
 note that you need to sign up SEPARATELY to individual trips)\n 	And drivi
 ng back to Sydney (your responsibility to arrange transport with those on 
 the same trips as you)\n\n\n\nTRIPS:\n\n\n\nSO WHAT DO I NEED TO DO?:\n\n 
 	Login to the website. Sign up for this Boree Log event. Wait for approval
 . People with cars will get preference so please bring your car!\n 	Once y
 our spot has been approved\, LOOK OUT FOR INDIVIDUAL TRIPS on to be posted
  on Sunday 15th\, 9 pm  – sign up to these on the website (ONLY ONE TRI
 P for Saturday and ONE for Sunday).\n 	Wait for approval from individual t
 rips.\n 	Arrange transport (see Facebook BL Transport Page to find people 
 with cars)\n 	Go shopping for the gear the club doesn’t provide (e.g. sl
 eeping mats\, sleeping bag\, thermals\, head-torch\, etc.) + make sure you
  have food and alcohol and WATER for the weekend + get a COSTUME!!\n 	Come
  along\, meet new people and have fun! 😀\n\nWHAT IF I JUST WANT TO CHI
 LL?: Places on the trip are limited because there are only so many trip l
 eaders to run day trips. BUT…If all you want is to come for a camping tr
 ip\, chill at the campsite and slackline\, party\, meet new people\, etc.\
 , then specify “Camping only\, NO trips” in the comments section\, and
  we are happy to have extra company – i.e. you can have a spot even if t
 he event is full 🙂 (BUT…if you do choose this option\, you CANNOT ch
 ange your mind later and try to sign up for trips later)\n\nWHAT TO BRING:
 \n\n 	BRING WATER and FOOD!!\n 	Cutlery and bowl/plate for Saturday night\
 n 	CASH for Sharing Petrol Costs\n 	Sleeping bag and sleeping mat (you can
  get cheap ones from Kmart\, Anaconda\, Decathlon\, etc)\n 	WARM CLOTHES!\
 n 	If you are canyoning\, try to bring your own wetsuit because the club c
 an’t guarantee we’ll have enough/your size. Also\, bring a PAIR OF SHO
 RTS to protect the seat of the wetsuit\n\nIf you don’t know what to brin
 g\, here’s a packing list. The club will be able to provide you techni
 cal equipment\, but if you have your own wetsuits\, harnesses\, climbing g
 ear\, etc.\, please BRING IT\, because supplies are limited. The club will
  also have a number of tents for people to sleep in\, but again\, if you h
 ave your own\, bring it. The club has NO sleeping mats or sleeping bags. 
 It’ll be colder than in Sydney\, so at least bring a blanket and a yoga 
 mat if you don’t have a sleeping bag.\n\nNote:\n\n 	Toilet facilities 
 – drop toilets. No running water. Bring toilet paper!\n 	No electricity 
 (so no\, don’t bring your hairdryer)\, and No microwaves (yes\, we’ve 
 been asked both those questions before! :P)\n\nCOST:\n\n 	Boree Log is a F
 REE event for UNSWOC members. No camping fees.\n 	If you car share: Petrol
  for your driver (arrange this with the driver ahead of time and BRING THE
  CASH. Reasonable $10-$20 per way)\n\nSee you there! Love and adventure!\n
 \n\n&nbsp\;\n\n&nbsp\;\n\n&gt\;&gt\;&gt\; There are 88 spots so the event 
 is now full. Sign up for the trip anyway to be on the waiting list. Quite 
 often a few people can't make it anymore and cancel. In that case\, you'll
  get a spot ASAP :)
ATTACH;FMTTYPE=image/jpeg:https://unswoc.org/wordpress/wp-content/uploads/
 2020/02/2-GF9-1.jpeg
CATEGORIES:Boree Log
END:VEVENT
BEGIN:VTIMEZONE
TZID:Australia/Sydney
X-LIC-LOCATION:Australia/Sydney
BEGIN:DAYLIGHT
DTSTART:20191006T030000
TZOFFSETFROM:+1000
TZOFFSETTO:+1100
TZNAME:AEDT
END:DAYLIGHT
END:VTIMEZONE
END:VCALENDAR