BEGIN:VCALENDAR
VERSION:2.0
PRODID:-//wp-events-plugin.com//7.2.3.1//EN
TZID:Australia/Sydney
X-WR-TIMEZONE:Australia/Sydney
BEGIN:VEVENT
UID:330@unswoc.org
DTSTART:20140321T050000Z
DTEND:20140323T000000Z
DTSTAMP:20140311T173042Z
URL:https://unswoc.org/wordpress/events/boree-log-2/
SUMMARY:Boree Log
DESCRIPTION:Roll up\, Roll up.\n\nLadies and Gentlemen\, come one - come al
 l! It's time for Boree Log!\n\nTo those of you familiar\, no description i
 s required. To the new people\, this is the clubs bi-annual trip where eve
 ryone is encouraged to come up to the Blue Mountains to participate in cli
 mbing\, canyoning\, hiking\, mountain biking\, trail running or whatever t
 akes your fancy! Never mind if you have no experience with these things\, 
 this is your chance to give it a go!\n\nWe will be heading up to (Location
  TBC) on Friday Evening (21st of March)\, so we can get up early for a day
  of fun and adventure on Saturday. Trip details will be posted up closer t
 o the date\, so don't worry about organising trips just yet.\n\nOn Saturda
 y night\, there will be a bon fire as well as feast prepared to sate the a
 ppetite you worked up during the day. Saturday night is also the party nig
 ht\, so BYO.\n\nOn Sunday we will wake up and do it all over again!\n\nIf 
 you don't know what to bring\, here is a useful guide. The club will be ab
 le to prived you technical equipment\, but if you have your own wetsuits\,
  harnesses\, misc climbing gear etc.\, please bring it\, because supplies 
 are limited. The club will also have a number of tents for people to sleep
  in\, but again\, if you have your own\, bring it also. The club has NO sl
 eeping mats or sleeping bags. It won't be too cold\, so a doona will suffi
 ce if you don't have a sleeping bag.\n\nWhile there is no monetary price o
 f admission\, everyone is encouraged to collect some firewood on their way
  to the campsite - it helps with cooking dinner and creating a warm and so
 ciable atmosphere.\n\nNo doubt you will have questions\, so get in contact
  with us on the club's Facebook page and we will try to help you out.\n\n&
 nbsp\;\n\nHappy Days :D.\n\n&nbsp\;
ATTACH;FMTTYPE=image/jpeg:https://unswoc.org/wordpress/wp-content/uploads/
 2013/07/img_0696.jpg
CATEGORIES:Boree Log,Canyoning,Outdoor Climbing,Social Event
LOCATION:Cathedral Reserve Camping Ground\, \, 
GEO:0.000000;0.000000
X-APPLE-STRUCTURED-LOCATION;VALUE=URI;X-ADDRESS=\, ;X-APPLE-RADIUS=100;X-TI
 TLE=Cathedral Reserve Camping Ground:geo:0.000000,0.000000
END:VEVENT
END:VCALENDAR