BEGIN:VCALENDAR
VERSION:2.0
PRODID:-//wp-events-plugin.com//7.2.3.1//EN
TZID:Australia/Sydney
X-WR-TIMEZONE:Australia/Sydney
BEGIN:VEVENT
UID:2132@unswoc.org
DTSTART;VALUE=DATE:20170331
DTEND;VALUE=DATE:20170403
DTSTAMP:20170330T114056Z
URL:https://unswoc.org/wordpress/events/boree-log-2-0-31st-mar-2nd-april-r
 ubix-cube/
SUMMARY:BOREE LOG (2.0) - 31st Mar to 2nd April - RUBIX CUBE!
DESCRIPTION:[s2If !current_user_can(access_s2member_level1)][/s2If]\n\nTo t
 hose of you familiar\, no description is required. To the new people Bore
 e Log is the club’s bi-annual trip where EVERYONE is encouraged to come 
 out to the great outdoors to participate in Climbing\, Canyoning\, Bushwal
 king\, Caving\, Slack-lining or whatever takes your fancy! Never mind if 
 you have no experience with these things\, this is your chance to give it 
 a go!\n\nLOCATION: \n\nCathedral of Ferns Campground\, Mt Wilson (Blue Mo
 untains)\n\nSCHEDULE:\n\n	FRIDAY NIGHT:\n\n	Everyone drives to Mt Wilson a
 nd camps. You will be expected to arrange your own lifts on the Boree Log 
 FB transport Page.\n	If you absolutely can’t find a lift\, PT is an opti
 on (Friday night only)\, however not recommended as someone will have to p
 ick you up at the station to ferry you to the campground.\n\n\n	SATURDAY D
 AYTIME:\n\n	Climbing/canyoning/bushwalking/Slacklining/Caving – whatever
  you sign up for (note that you need to sign up to THIS EVENT to get a spo
 t on Boree Log\, and then you need to SIGN UP SEPARATELY to individual tri
 ps posted on this website)\n\n\n	SATURDAY NIGHT: THEME – RUBIX CUBE part
 y\n\n	On Saturday night we’ll feast (provided)* and partaaaaay!\n	Theme:
  RUBIX CUBE:\n\n	1) come wearing the 6 colours of the rubix cube – red\,
  yellow\, white\, blue\, yellow\, green and orange (clothing or accessorie
 s)\,\n	 and 2) exchange clothing as you meet people so that by the end of
  the night you are wearing one solid colour\n	wear things you don’t mind
  not getting back!\n\n\n	There will also be Punch of Punishment. Don’t f
 orget to nominate any friends who have done silly or humorous things durin
 g the year!\n	BYO alcohol folks\n\n\n	SUNDAY DAYTIME:\n\n	Climbing/canyoni
 ng/bushwalking/Slacklining/Caving – whatever you sign up for (note that 
 you need to sign up SEPARATELY to individual trips)\n	And driving back to 
 Sydney (your responsibility to arrange transport with those on the same tr
 ips as you)\n\n\n\nWHAT TO BRING:\n\nIf you don’t know what to bring\, h
 ere’s a useful guide (http://unswoc.org/wordpress/events-18/boree-log-pa
 cking-list/ ) The club will be able to provide you technical equipment\, 
 but if you have your own wetsuits\, harnesses\, misc climbing gear etc.\, 
 please bring it\, because supplies are limited. The club will also have a 
 number of tents for people to sleep in\, but again\, if you have your own\
 , bring it also. The club has NO sleeping mats or sleeping bags. It’ll b
 e colder than in Sydney\, so at least bring a dooner and a cheap yoga mat 
 from kmart if you don’t have a sleeping bag.\n\nIf you are canyoning\, t
 ry to bring your own wetsuit\n\n*Food is only provided on Saturday night. 
 PLEASE BRING YOUR OWN FOOD for the rest of the weekend!\n\nCOST:\n\nIf you
  car share: Petrol for your driver\n\nIf you catch PT: PT fees + $5 for th
 e driver who will ferry you from the train station to the campsite\n\nPlea
 se let us know what your booking status was for the original Boree log. Pl
 ease\, please\, please be honest! We will be checking and if you select "c
 onfirmed" if you weren't approved last time we will have to bump you to th
 e bottom of the queue\, sorry!\n\nNo doubt you will have questions\, so pl
 ease read this FAQ\, and if that doesn’t answer your questions get in co
 ntact with us on the club’s Facebook page and we will try to help you ou
 t.
CATEGORIES:Boree Log
END:VEVENT
END:VCALENDAR