BEGIN:VCALENDAR
VERSION:2.0
PRODID:-//wp-events-plugin.com//7.2.3.1//EN
TZID:Australia/Sydney
X-WR-TIMEZONE:Australia/Sydney
BEGIN:VEVENT
UID:2104@unswoc.org
DTSTART:20170317T060000Z
DTEND:20170319T090000Z
DTSTAMP:20170316T013245Z
URL:https://unswoc.org/wordpress/events/boree-log-17-19th-march-rubix-cube
 /
SUMMARY:DELAYED DUE TO RAIN - BOREE LOG 17-19th March - Rubix Cube!
DESCRIPTION:DELAYED DUE TO RAIN\n\n\n\nTo those of you familiar\, no descri
 ption is required. To the new people Boree Log is the club’s bi-annual 
 trip where EVERYONE is encouraged to come out to the great outdoors to par
 ticipate in Climbing\, Canyoning\, Bushwalking\, Caving\, Slack-lining or
  whatever takes your fancy! Never mind if you have no experience with thes
 e things\, this is your chance to give it a go!\n\nLOCATION: \n\nCathedra
 l of Ferns Campground\, Mt Wilson (Blue Mountains)\n\n&nbsp\;\n\nSCHEDULE:
 \n\n	FRIDAY NIGHT:\n\n	Everyone drives to Mt Wilson and camps. You will be
  expected to arrange your own lifts on the Boree Log FB transport Page.\n	
 If you absolutely can't find a lift\, PT is an option (Friday night only)\
 , however not recommended as someone will have to pick you up at the stati
 on to ferry you to the campground.\n\n\n	SATURDAY DAYTIME:\n\n	Climbing/ca
 nyoning/bushwalking/Slacklining/Caving – whatever you sign up for (note 
 that you need to sign up to THIS EVENT to get a spot on Boree Log\, and th
 en you need to SIGN UP SEPARATELY to individual trips posted on this websi
 te)\n\n\n	SATURDAY NIGHT: THEME – RUBIX CUBE party\n\n	On Saturday night
  we’ll feast (provided)* and partaaaaay!\n	Theme: RUBIX CUBE:\n\n	1) com
 e wearing the 6 colours of the rubix cube - red\, yellow\, white\, blue\, 
 yellow\, green and orange (clothing or accessories)\,\n	 and 2) exchange 
 clothing as you meet people so that by the end of the night you are wearin
 g one solid colour\n	wear things you don't mind not getting back!\n\n\n	Th
 ere will also be Punch of Punishment. Don’t forget to nominate any frien
 ds who have done silly or humorous things during the year!\n	BYO alcohol f
 olks\n\n\n	SUNDAY DAYTIME:\n\n	Climbing/canyoning/bushwalking/Slacklining/
 Caving – whatever you sign up for (note that you need to sign up SEPARAT
 ELY to individual trips)\n	And driving back to Sydney (your responsibility
  to arrange transport with those on the same trips as you)\n\n\n\nWHAT TO 
 BRING:\n\nIf you don’t know what to bring\, here’s a useful guide (htt
 p://unswoc.org/wordpress/events-18/boree-log-packing-list/ ) The club wil
 l be able to provide you technical equipment\, but if you have your own we
 tsuits\, harnesses\, misc climbing gear etc.\, please bring it\, because s
 upplies are limited. The club will also have a number of tents for people 
 to sleep in\, but again\, if you have your own\, bring it also. The club h
 as NO sleeping mats or sleeping bags. It’ll be colder than in Sydney\, s
 o at least bring a dooner and a cheap yoga mat from kmart if you don’t h
 ave a sleeping bag.\n\nIf you are canyoning\, try to bring your own wetsui
 t\n\n*Food is only provided on Saturday night. PLEASE BRING YOUR OWN FOOD 
 for the rest of the weekend!\n\nCOST:\n\n&nbsp\;\n\nIf you car share: Petr
 ol for your driver\n\nIf you catch PT: PT fees + $5 for the driver who wil
 l ferry you from the train station to the campsite\n\nNo doubt you will ha
 ve questions\, so please read this FAQ\, and if that doesn’t answer your
  questions get in contact with us on the club’s Facebook page and we wil
 l try to help you out.
CATEGORIES:Boree Log
END:VEVENT
END:VCALENDAR