BEGIN:VCALENDAR
VERSION:2.0
PRODID:-//wp-events-plugin.com//7.2.3.1//EN
TZID:Australia/Sydney
X-WR-TIMEZONE:Australia/Sydney
BEGIN:VEVENT
UID:2218@unswoc.org
DTSTART;VALUE=DATE:20180316
DTEND;VALUE=DATE:20180319
DTSTAMP:20180313T064614Z
URL:https://unswoc.org/wordpress/events/boree-log-16-18-march-theme-st-pat
 rick-enchanted-forest/
SUMMARY:BOREE LOG 16-18 March - theme: St Patrick in the Enchanted Forest
DESCRIPTION:\nBOREE LOG 16-18 March 2018 – THEME: St patrick in the encha
 nted forest\n\n\n\nTo those of you familiar\, no description is required. 
 To the new people Boree Log is the club’s bi-annual trip where EVERYONE
  is encouraged to come out to the great outdoors to participate in Climbin
 g\, Canyoning\, Bushwalking\, Caving\, Slack-lining or whatever takes you
 r fancy! Never mind if you have no experience with these things\, this is 
 your chance to give it a go!\n\n(like all our trips you need to be a curre
 nt member though)\n\nLOCATION: \n\nMt Wilson campground (Cathedral Reserv
 e) - https://www.mtwilson.com.au/things-to-do/camping\n\nSCHEDULE:\n\n 	F
 RIDAY NIGHT:\n\n 	Everyone drives to Mt Wilson and camps. You will be expe
 cted to arrange your own lifts on the Boree Log FB transport Page - you wi
 ll be expected to split petrol costs with the other people in your car\n 	
 There is no cell service at the campsite so keep this in mind!\n\n\n 	SATU
 RDAY DAYTIME:\n\n 	Climbing/canyoning/bushwalking/Slacklining/Caving – w
 hatever you sign up for (note that you need to sign up to THIS EVENT to ge
 t a spot on Boree Log\, and then you need to SIGN UP SEPARATELY to individ
 ual trips posted on this website)\n\n\n 	SATURDAY NIGHT: THEMED PARTY NIGH
 T!\n\n 	On Saturday night we’ll feast (provided)* and partaaaaay!\n 	The
 me: St Patrick in the Enchanted Forest\n 	There will also be Punch of Puni
 shment. Don’t forget to nominate any friends who have done silly or humo
 rous things during the year!\n 	BYO alcohol folks\n 	*Food is only provide
 d on Saturday night. PLEASE BRING YOUR OWN FOOD for the rest of the weeken
 d\n\n\n 	SUNDAY DAYTIME:\n\n 	Climbing/canyoning/bushwalking/Slacklining/C
 aving – whatever you sign up for (note that you need to sign up SEPARATE
 LY to individual trips)\n 	And driving back to Sydney (your responsibility
  to arrange transport with those on the same trips as you)\n\n\n\nSO WHAT 
 DO I NEED TO DO?:\n\n 	Login to the website. Sign up to this Boree Log eve
 nt. wait for approval**\n 	Once your spot has been approved\, LOOK OUT FOR
  INDIVIDUAL TRIPS on to be posted on Thursday 08 Mar 12pm – sign up to t
 hese on the website + MESSAGE TRIP LEADER your details (esp your experienc
 e level and whether or not you have a car!!)\n 	Arrange transport (see BL 
 Transport Page)\n 	Wait for approval from individual trips. ONCE ONE TRIP 
 IS APPROVED CANCEL OTHER BOOKINGS IMMEDIATELY so that others have a chance
  to sign up. Clear up your bookings by Wed 14/03 9am\, or WE will choose 
 for you\n 	Go shopping for gear the club doesn’t provide (e.g. sleeping 
 mats\, sleeping bag\, thermals\, drybag for canyoners etc.) + make sure yo
 u have food and alcohol and WATER for the weekend + get a COSTUME!! (Clim
 bing Anchors is having an exclusive DISCOUNT NIGHT for UNSWOC members on W
 ed 14/03 from 5pm\, so that might help if you need gear :))\n 	Come along\
 , meet new people and have fun! 😀\n\nWHAT IF I JUST WANT TO CHILL?: Pl
 aces on the trip are limited because there are only so many trip leaders t
 o run day trips. BUT...If all you want is to come for a camping trip\, chi
 ll at the campsite and slackline\, party\, meet new people etc.\, then spe
 cify "Camping only\, NO trips" in the comments section\, and we are happy 
 to have extra company - i.e. you can have a spot even if the event is full
  :) (BUT...if you do choose this option\, you CANNOT change your mind late
 r and try to sign up for trips later)\n\nWHAT TO BRING:\n\n 	BRING WATER a
 nd FOOD!! –  NO WATER PROVIDED AT CAMPSITE\n 	Cultery and bowl/plate f
 or Saturday night\n 	Change for Sharing Petrol Costs\n 	Sleeping bag and s
 leeping mat ($10 or less for a foam/yoga mat from Kmart)\n 	WARM CLOTHES! 
 - It is much colder than Sydney up there\n 	If you are canyoning\, try to 
 bring your own wetsuit because the club can’t guarantee we’ll have eno
 ugh/your size. Also bring a PAIR OF SHORTS to protect the seat of the wets
 uit\n\nIf you don’t know what to bring\, here’s a useful guide (http:
 //unswoc.org/wordpress/events-18/boree-log-packing-list/ ) The club will 
 be able to provide you technical equipment\, but if you have your own wets
 uits\, harnesses\, misc climbing gear etc.\, please bring it\, because sup
 plies are limited. The club will also have a number of tents for people to
  sleep in\, but again\, if you have your own\, bring it also. The club has
  NO sleeping mats or sleeping bags. It’ll be colder than in Sydney\, so 
 at least bring a dooner and a cheap yoga mat from kmart if you don’t hav
 e a sleeping bag.\n\nNote:\n\nToilet facilities – drop toilets. No runni
 ng water.\n\nNo electricity (so no\, don’t bring your hairdryer)\, and N
 o microwaves (yes we’ve been asked both those questions before! :P)\n\n*
 *take note that even if the website shows ’10 spaces left’ or whatever
 \, there could still be more people than that in the waiting list before y
 ou (that haven’t been approved yet). So don’t assume you have a spot t
 il you get confirmation\n\nCOST:\n\nNo camping fees\n\nIf you car share: P
 etrol for your driver (arrange this with the driver ahead of time and BRIN
 G THE CASH)\n\n
CATEGORIES:Boree Log
END:VEVENT
END:VCALENDAR