BEGIN:VCALENDAR
VERSION:2.0
PRODID:-//wp-events-plugin.com//7.2.3.1//EN
TZID:Australia/Sydney
X-WR-TIMEZONE:Australia/Sydney
BEGIN:VEVENT
UID:2777@unswoc.org
DTSTART;TZID=Australia/Sydney:20210219T200000
DTEND;TZID=Australia/Sydney:20210221T200000
DTSTAMP:20210216T223846Z
URL:https://unswoc.org/wordpress/events/boree-log-12-13-december-theme-hol
 iday-season/
SUMMARY:BOREE LOG 19-21 February -  THEME: Too big or Too small
DESCRIPTION:\n\n\nHOLIDAYS ARE OVER BUT THE FUN ISN'T!!! Get SUPER MEGA KEE
 N because the most amazing weekend of the year is here! To those of you fa
 miliar\, no description is required. To the new people Boree Log is the cl
 ub’s bi-annual trip where EVERYONE is encouraged to come out to the grea
 t outdoors to participate in Climbing\, Canyoning\, Bushwalking\, Caving\,
  Slack-lining or whatever takes your fancy! Never mind if you have no expe
 rience with these things\, this is your chance to give it a go!\n\n(Like a
 ll our regular trips you need to be a current member to attend)\n\nLOCATIO
 N: \n\nBendeela camping area - Kangaroo valley\n\n\nSO WHAT DO I NEED TO 
 DO?:\n\n 	Login to the website. Sign up to this Boree Log event. Wait for 
 approval. People with cars will get preference so please bring your car!\n
  	Find the facebook event on facebook. (This is where trips and transport 
 will be arranged)\n 	Once your spot has been approved\, LOOK OUT FOR INDIV
 IDUAL TRIPS on the facebook event - sign up to these on the website (ONLY
  ONE TRIP for Saturday and ONE for Sunday).\n 	Wait for approval from indi
 vidual trips.\n 	Arrange transport (on the facebook event)\n 	Find access 
 to personal gear (e.g. sleeping mats\, sleeping bag\, thermals\, head-torc
 h\, etc.) + make sure you have food and alcohol and WATER for the weekend 
 + get a COSTUME (theme Too big or Too small)!!\n 	Come along\, meet new pe
 ople and have fun! 😀\n\n&nbsp\;\n\n\nSCHEDULE:\n\n 	FRIDAY NIGHT:\n\n 
 	Everyone drives to Bendeela and camps. You need to arrange your own lifts
  on the Boree Log FB event – remember to split petrol costs with the oth
 er people in your car.\n 	There maybe no phone service at the campsite so 
 keep this in mind!\n\n\n 	SATURDAY DAYTIME:\n\n 	Climbing/canyoning/bushwa
 lking/Slacklining/Caving – whatever trip you sign up for (note that you 
 need to sign up to THIS EVENT to get a spot on Boree Log\, and then you ne
 ed to SIGN UP SEPARATELY to individual trips posted on this website. Max 1
  trip per day)\n\n\n 	SATURDAY NIGHT: THEMED PARTY NIGHT!\n\n 	On Saturday
  night we’ll feast and FIESTA!\n 	Theme: TOO BIG OR TOO SMALL - that o
 ne piece of clothing you outgrew but still have? Or grandpa’s jacket in 
 the back of your closet? Or both? Prizes for best dressed will be awarded!
  \n 	There will also be Punch of Punishment. Don’t forget to nominate a
 ny friends who have done silly or humorous things during the year!\n 	BYO 
 alcohol\n 	Food is provided for Saturday night only! Please bring your own
  food for the rest of the weekend. (Make sure your allergies are in your 
 unswoc account information)\n\n\n 	SUNDAY DAYTIME:\n\n 	Climbing/canyoning
 /bushwalking/Slacklining/Caving – whatever you sign up for (note that yo
 u need to sign up SEPARATELY to individual trips)\n 	And driving back to S
 ydney (your responsibility to arrange transport with those on the same tri
 ps as you)\n\n\n\nWHAT IF I JUST WANT TO CHILL?: If all you want is to co
 me for a camping trip\, chill at the campsite and slackline\, party\, meet
  new people etc.\, then specify “Camping only\, NO trips” in the comme
 nts section\, and we are happy to have extra company (up until our COVID c
 apacity).\n\nWHAT IF I ONLY WANT TO COME FOR ONE DAY?: Thats fine! Just sp
 ecify on the sign up “NO camping\, Just Saturday/Sunday trip” then sig
 n up to the trip you would like. (Keep in mind that transport to or from y
 our trip back to Sydney may be limited and depending on the trip there may
  be no access to public transport). Priority will be given to Saturday nig
 ht campers.\n\nWHAT TO BRING:\n\n 	BRING WATER and FOOD!! –  4-5L per 
 day per person is a good estimate of how much water to bring. Food is only
  provided for Saturday night.\n 	Cooking and camping equipment. Sleeping 
 bag and sleeping mat and tent (the club has some in the cupboard but suppl
 y is limited)\n 	CASH for Sharing Petrol Costs\n 	WARM CLOTHES! – It is 
 much colder than Sydney when camping.\n 	Sun protection and rain protectio
 n\, it may be hot it may be rainy it may be cold. Be prepared.\n 	If you a
 re canyoning\, try to bring your own wetsuit because the club can’t guar
 antee we’ll have enough/your size. Also bring a PAIR OF SHORTS to protec
 t the seat of the wetsuit\n\nIf you don’t know what to bring\, here’s 
 a packing list. The club will be able to provide you technical equipment\,
  but if you have your own wetsuits\, harnesses\, climbing gear etc.\, plea
 se BRING IT.\n\nNote:\n\n 	Toilet facilities – drop toilets. No running 
 water. Bring toilet paper!\n 	No electricity (so no\, don’t bring your h
 airdryer)\, and No microwaves (yes we’ve been asked both those questions
  before! :P)\n\nCOST:\n\n 	Boree Log is a FREE event for UNSWOC members. N
 o camping fees.\n 	If you car share: Petrol for your driver (arrange this 
 with the driver ahead of time and BRING THE CASH. Reasonable $10-$20 per w
 ay)\n\nIf you have read this far\, let me know in the comments what your f
 avourite plant or animal is? (approval preference if you do)\n\nSee you th
 ere! Love and adventure!\n\n
ATTACH;FMTTYPE=image/jpeg:https://unswoc.org/wordpress/wp-content/uploads/
 2021/02/D72C9E58-95DC-4F54-8EF9-0481FB2A54F3.jpeg
CATEGORIES:Boree Log
END:VEVENT
BEGIN:VTIMEZONE
TZID:Australia/Sydney
X-LIC-LOCATION:Australia/Sydney
BEGIN:DAYLIGHT
DTSTART:20201004T030000
TZOFFSETFROM:+1000
TZOFFSETTO:+1100
TZNAME:AEDT
END:DAYLIGHT
END:VTIMEZONE
END:VCALENDAR