BEGIN:VCALENDAR
VERSION:2.0
PRODID:-//wp-events-plugin.com//7.2.3.1//EN
TZID:Australia/Sydney
X-WR-TIMEZONE:Australia/Sydney
BEGIN:VEVENT
UID:2980@unswoc.org
DTSTART;TZID=Australia/Sydney:20221215T180000
DTEND;TZID=Australia/Sydney:20221215T224500
DTSTAMP:20221209T090246Z
URL:https://unswoc.org/wordpress/events/booking-thursday-the-ledge-3-2022-
 12-15/
SUMMARY:Final Thursday @THE LEDGE for 2022
DESCRIPTION:Hey all! Come along to the last ledge night of 2022 before uni 
 shuts down for the Christmas break. Don't worry\, we'll be back in action 
 at the LEDGE on January 12th 2023!\n\nThursday nights the Outdoors Club he
 ads to the Ledge Climbing Centre at USYD for discounted $5 entry for club 
 members (usual entry fee for non-members). It is the place to be to meet n
 ew friends\, get a feel for the club\, and get excited about all the trips
  to come this term.\n\n&nbsp\;\n\nCOVID Rules and Things\n\n 	Bookings no 
 longer required - just come along\, member or not!\n 	Full vaccination re
 quired - in line with the requirement USYD has on their sporting faciliti
 es complex and our UNSW Outdoors Club Vaccination Policy\n 	Social Distanc
 ing - please continue to observe social distancing and COVID safe behavio
 ur\n 	Pizza and Beer? - After climbing we usually head to the local pub j
 ust down the road for discounted (and really good) Pizza\, Beer and good t
 imes. Come along!\n\n&nbsp\;\n\nYou don't need any climbing experience or 
 gear to come along to the ledge. We will have harness for you to borrow. A
 ny and all abilities are welcome too\, doesn't matter if you've never set 
 foot in a climbing gym before.\n\nThe Ledge is the best place to sign-up t
 o the club\, learn\, and plan trips for the weekend! Beginner to advanced 
 friendly!\nPlease note that most members arrive at 5:30pm - 6:00pm\, but f
 or $5 climbing you can arrive anytime from 5pm!\n\nAny questions or concer
 ns ask around for Jenny\, Angela\, Jayden\, Bennett or Mira. Everyone is f
 riendly.\nSee you there!!\n\n
ATTACH;FMTTYPE=image/jpeg:https://unswoc.org/wordpress/wp-content/uploads/
 2020/06/2938414B-BD27-4292-B440-27AC5EB30802.jpeg
CATEGORIES:Indoor Climbing
END:VEVENT
BEGIN:VTIMEZONE
TZID:Australia/Sydney
X-LIC-LOCATION:Australia/Sydney
BEGIN:DAYLIGHT
DTSTART:20221002T030000
TZOFFSETFROM:+1000
TZOFFSETTO:+1100
TZNAME:AEDT
END:DAYLIGHT
END:VTIMEZONE
END:VCALENDAR