BEGIN:VCALENDAR
VERSION:2.0
PRODID:-//wp-events-plugin.com//7.2.3.1//EN
TZID:Australia/Sydney
X-WR-TIMEZONE:Australia/Sydney
BEGIN:VEVENT
UID:2968@unswoc.org
DTSTART;TZID=Australia/Sydney:20220920T180000
DTEND;TZID=Australia/Sydney:20220920T220000
DTSTAMP:20220918T235335Z
URL:https://unswoc.org/wordpress/events/booking-thursday-the-ledge-3-2022-
 09-22/
SUMMARY:Tuesday @THE LEDGE (due to public holiday)
DESCRIPTION:Hey all! It's 2022 and that means the LEDGE is back. Due to the
  public holiday\, our weekly climbing will be on Tuesday night this week. 
 As per usual\, the Outdoors Club will be at the Ledge Climbing Centre at U
 SYD for discounted $5 entry for club members (usual entry fee for non-memb
 ers). It is the place to be to meet new friends\, get a feel for the club\
 , and get excited about all the trips to come this term.\n\n&nbsp\;\n\nCOV
 ID Rules and Things\n\n 	Bookings no longer required - just come along\, 
 member or not!\n 	Full vaccination required - in line with the requiremen
 t USYD has on their sporting facilities complex and our UNSW Outdoors Club
  Vaccination Policy\n 	Social Distancing - please continue to observe soc
 ial distancing and COVID safe behaviour\n 	Pizza and Beer? - After climbi
 ng we usually head to the local pub just down the road for discounted (and
  really good) Pizza\, Beer and good times. Come along!\n\n&nbsp\;\n\nYou d
 on't need any climbing experience or gear to come along to the ledge. We w
 ill have harness for you to borrow. Any and all abilities are welcome too\
 , doesn't matter if you've never set foot in a climbing gym before.\n\nThe
  Ledge is the best place to sign-up to the club\, learn\, and plan trips f
 or the weekend! Beginner to advanced friendly!\nPlease note that most memb
 ers arrive at 5:30pm - 6:00pm\, but for $5 climbing you can arrive anytime
  from 5pm!\n\nAny questions or concerns ask around for Jenny\, Angela\, Ja
 yden\, Bennett or Mira. Everyone is friendly.\nSee you there!!\n\n
ATTACH;FMTTYPE=image/jpeg:https://unswoc.org/wordpress/wp-content/uploads/
 2020/06/2938414B-BD27-4292-B440-27AC5EB30802.jpeg
CATEGORIES:Indoor Climbing
END:VEVENT
BEGIN:VTIMEZONE
TZID:Australia/Sydney
X-LIC-LOCATION:Australia/Sydney
BEGIN:STANDARD
DTSTART:20220403T020000
TZOFFSETFROM:+1100
TZOFFSETTO:+1000
TZNAME:AEST
END:STANDARD
END:VTIMEZONE
END:VCALENDAR