BEGIN:VCALENDAR
VERSION:2.0
PRODID:-//wp-events-plugin.com//7.2.3.1//EN
TZID:Australia/Sydney
X-WR-TIMEZONE:Australia/Sydney
BEGIN:VEVENT
UID:2967@unswoc.org
DTSTART;TZID=Australia/Sydney:20220915T170000
DTEND;TZID=Australia/Sydney:20220915T200000
DTSTAMP:20220913T091540Z
URL:https://unswoc.org/wordpress/events/booking-thursday-the-ledge-3-2022-
 09-15/
SUMMARY:Booking Thursday @THE LEDGE + Welcome BBQ
DESCRIPTION:Hey all! It's 2022 and that means the LEDGE is back. Thursday n
 ights the Outdoors Club heads to the Ledge Climbing Centre at USYD for dis
 counted $5 entry for club members (usual entry fee for non-members). It is
  the place to be to meet new friends\, get a feel for the club\, and get e
 xcited about all the trips to come this term.\n\nThis week we'll have a sp
 ecial free BBQ for everyone to welcome everyone back from the uni break an
 d new members into the club! Everyone is welcome to come along\, member o
 r not! Come try before you buy if you aren't already a member and we can h
 elp sign you up on the night if you're keen! For those who have already si
 gned up on our website or in person\, find an exec member around the gym f
 or a membership card if you don't already have one.\n\nWe will also have m
 ore sizes of those nice club shirts you all asked about at O-week availabl
 e for $20 and hoodies for $40 so don't miss out \;)\n\n&nbsp\;\n\nCOVID Ru
 les and Things\n\n 	Bookings no longer required - just come along\, membe
 r or not!\n 	Full vaccination required - in line with the requirement USY
 D has on their sporting facilities complex and our UNSW Outdoors Club Vacc
 ination Policy\n 	Social Distancing - please continue to observe social d
 istancing and COVID safe behaviour\n 	Pizza and Beer? - After climbing we
  usually head to the local pub just down the road for discounted (and real
 ly good) Pizza\, Beer and good times. Come along!\n\n&nbsp\;\n\nYou don't 
 need any climbing experience or gear to come along to the ledge. We will h
 ave harness for you to borrow. Any and all abilities are welcome too\, doe
 sn't matter if you've never set foot in a climbing gym before.\n\nThe Ledg
 e is the best place to sign-up to the club\, learn\, and plan trips for th
 e weekend! Beginner to advanced friendly!\nPlease note that most members a
 rrive at 5:30pm - 6:00pm\, but for $5 climbing you can arrive anytime from
  5pm!\n\nAny questions or concerns ask around for Jenny\, Angela\, Jayden\
 , Bennett or Mira. Everyone is friendly.\nSee you there!!\n\n
ATTACH;FMTTYPE=image/jpeg:https://unswoc.org/wordpress/wp-content/uploads/
 2020/06/2938414B-BD27-4292-B440-27AC5EB30802.jpeg
CATEGORIES:Indoor Climbing
END:VEVENT
BEGIN:VTIMEZONE
TZID:Australia/Sydney
X-LIC-LOCATION:Australia/Sydney
BEGIN:STANDARD
DTSTART:20220403T020000
TZOFFSETFROM:+1100
TZOFFSETTO:+1000
TZNAME:AEST
END:STANDARD
END:VTIMEZONE
END:VCALENDAR