BEGIN:VCALENDAR
VERSION:2.0
PRODID:-//wp-events-plugin.com//7.2.3.1//EN
TZID:Australia/Sydney
X-WR-TIMEZONE:Australia/Sydney
BEGIN:VEVENT
UID:2942@unswoc.org
DTSTART;TZID=Australia/Sydney:20220324T170000
DTEND;TZID=Australia/Sydney:20220324T214500
DTSTAMP:20220825T214032Z
URL:https://unswoc.org/wordpress/events/booking-thursday-the-ledge-3-2022-
 03-24/
SUMMARY:Booking Thursday @THE LEDGE
DESCRIPTION:Hey all! It's 2022 and that means the LEDGE is back. Thursday n
 ights the Outdoors Club heads to the Ledge Climbing Centre at USYD for dis
 counted $5 entry for club members (usual entry fee for non-members). It is
  the place to be to meet new friends\, get a feel for the club\, and get e
 xcited about all the trips to come this term.\n\n&nbsp\;\n\nCOVID Rules an
 d Things\n\n 	Bookings no longer required - just come along\, member or n
 ot!\n 	Full vaccination required - in line with the requirement USYD has 
 on their sporting facilities complex and our UNSW Outdoors Club Vaccinatio
 n Policy\n 	Social Distancing - please continue to observe social distanc
 ing and COVID safe behaviour\n 	Pizza and Beer? - After climbing we usual
 ly head to the local pub just down the road for discounted (and really goo
 d) Pizza\, Beer and good times. Come along!\n\n&nbsp\;\n\nYou don't need a
 ny climbing experience or gear to come along to the ledge. We will have ha
 rness for you to borrow. Any and all abilities are welcome too\, doesn't m
 atter if you've never set foot in a climbing gym before.\n\nThe Ledge is t
 he best place to sign-up to the club\, learn\, and plan trips for the week
 end! Beginner to advanced friendly!\nPlease note that most members arrive 
 at 5:30pm - 6:00pm\, but for $5 climbing you can arrive anytime from 5pm!\
 n\nAny questions or concerns ask around for Jenny\, Angela\, Jayden\, Benn
 ett or Mira. Everyone is friendly.\nSee you there!!\n\n
ATTACH;FMTTYPE=image/jpeg:https://unswoc.org/wordpress/wp-content/uploads/
 2020/06/2938414B-BD27-4292-B440-27AC5EB30802.jpeg
CATEGORIES:Indoor Climbing
END:VEVENT
BEGIN:VTIMEZONE
TZID:Australia/Sydney
X-LIC-LOCATION:Australia/Sydney
BEGIN:DAYLIGHT
DTSTART:20211003T030000
TZOFFSETFROM:+1000
TZOFFSETTO:+1100
TZNAME:AEDT
END:DAYLIGHT
END:VTIMEZONE
END:VCALENDAR