BEGIN:VCALENDAR
VERSION:2.0
PRODID:-//wp-events-plugin.com//7.2.3.1//EN
TZID:Australia/Sydney
X-WR-TIMEZONE:Australia/Sydney
BEGIN:VEVENT
UID:2939@unswoc.org
DTSTART;TZID=Australia/Sydney:20220303T170000
DTEND;TZID=Australia/Sydney:20220303T214500
DTSTAMP:20220127T005239Z
URL:https://unswoc.org/wordpress/events/booking-thursday-the-ledge-3-2022-
 03-03/
SUMMARY:Booking Thursday @THE LEDGE
DESCRIPTION:Hey all! It's 2022 and that means the LEDGE is back. Thursday n
 ights the Outdoor's Club heads to the Ledge Climbing Centre at USYD for di
 scounted $5 entry for club members. It is the place to be to meet new frie
 nds\, get a feel for the club\, and get excited about all the trips to com
 e this term.\n\n&nbsp\;\n\nCOVID Rules and Things\n\n 	You must book a spo
 t on this event in order to attend (If you aren't yet a member but you're 
 keen to come along and see what the club's about then send our events offi
 cer Zara Smith a message on Facebook\, or email on events@unswoc.org to se
 e if we have a spot for you to come along and check it all out. Otherwise\
 , we'll be back to running welcome BBQs and events for non-members soon to
 o)\n 	Full vaccination required - in line with the requirement USYD has o
 n their sporting facilities complex\n 	Proof of vaccination required\, eit
 her via Service NSW app\, Medicare app\, Google/Apple Wallet\, or a printe
 d copy of your digital certificate\n 	Masks must be worn when not climbing
 \n 	QR Code check ins\n 	Social Distancing\n 	Flodge details to be confirm
 ed soon. Keep your eyes peeled for pizza announcements\n\n&nbsp\;\n\nWe're
  all super keen to see you all back at the Ledge. Remember\, if you're fee
 ling unwell the Ledge isn't going anywhere. Stay home\, get tested and we'
 ll see you soon enough.\n\n&nbsp\;\n\nUsual Ledge Info\n\nThursday is a cl
 ub night. We go social climbing at The Ledge Climbing Centre at Sydney Un
 iversity for $5 (instead of $12 for non-members). Everyone is welcome. To 
 fit COVID regulations\, there is a maximum number of club members allowed 
 at the gym at one time so bookings are required.\n\nThe Ledge is the best 
 place to sign-up to the club\, learn\, and plan trips for the weekend! Beg
 inner to advanced friendly!\nAfter climbing we go to the pub (THE FLODGE) 
 for pizza and beer. Usually around 8pm (sometimes a bit earlier and someti
 mes a bit later)\nAs the Flodge also requires bookings please tick whether
  you have the intention of coming along so we can estimate booking numbers
 . \n\nPlease note that most members arrive at 5:30pm - 6:00pm\, but for $
 5 climbing you can arrive anytime from 5pm!\n\nAny questions or concerns a
 sk around for Zara\, Bennett\, Mira or Ashleigh. Everyone is friendly.\nSe
 e you there!!\n\n
ATTACH;FMTTYPE=image/jpeg:https://unswoc.org/wordpress/wp-content/uploads/
 2020/06/2938414B-BD27-4292-B440-27AC5EB30802.jpeg
CATEGORIES:Indoor Climbing
END:VEVENT
BEGIN:VTIMEZONE
TZID:Australia/Sydney
X-LIC-LOCATION:Australia/Sydney
BEGIN:DAYLIGHT
DTSTART:20211003T030000
TZOFFSETFROM:+1000
TZOFFSETTO:+1100
TZNAME:AEDT
END:DAYLIGHT
END:VTIMEZONE
END:VCALENDAR