BEGIN:VCALENDAR
VERSION:2.0
PRODID:-//wp-events-plugin.com//7.2.3.1//EN
TZID:Australia/Sydney
X-WR-TIMEZONE:Australia/Sydney
BEGIN:VEVENT
UID:2937@unswoc.org
DTSTART;TZID=Australia/Sydney:20220217T170000
DTEND;TZID=Australia/Sydney:20220217T214500
DTSTAMP:20220217T041059Z
URL:https://unswoc.org/wordpress/events/booking-thursday-the-ledge-3-2022-
 02-17/
SUMMARY:Booking Thursday @THE LEDGE
DESCRIPTION:***EVENT FULL***\n\nThis event is now full. If you have an appr
 oved spot and can't make it anymore please cancel your booking or let one 
 of the exec know so we can let someone on the waiting list in\n\n***EVENT 
 FULL***\n\n&nbsp\;\n\nHey all! It's 2022 and that means the LEDGE is back.
  Thursday nights the Outdoor's Club heads to the Ledge Climbing Centre at 
 USYD for discounted $5 entry for club members. It is the place to be to me
 et new friends\, get a feel for the club\, and get excited about all the t
 rips to come this term.\n\n&nbsp\;\n\nCOVID Rules and Things\n\n 	You must
  book a spot on this event in order to attend (If you aren't yet a member 
 but you're keen to come along and see what the club's about then send our 
 events officer Zara Smith a message on Facebook\, or email on events@unswo
 c.org to see if we have a spot for you to come along and check it all out.
  Otherwise\, we'll be back to running welcome BBQs and events for non-memb
 ers soon too)\n 	Full vaccination required - in line with the requirement
  USYD has on their sporting facilities complex\n 	Proof of vaccination req
 uired\, either via Service NSW app\, Medicare app\, Google/Apple Wallet\, 
 or a printed copy of your digital certificate\n 	Masks must be worn when n
 ot climbing\n 	QR Code check ins\n 	Social Distancing\n 	Flodge details to
  be confirmed soon. Keep your eyes peeled for pizza announcements\n\n&nbsp
 \;\n\nWe're all super keen to see you all back at the Ledge. Remember\, if
  you're feeling unwell the Ledge isn't going anywhere. Stay home\, get tes
 ted and we'll see you soon enough.\n\n&nbsp\;\n\nUsual Ledge Info\n\nThurs
 day is a club night. We go social climbing at The Ledge Climbing Centre a
 t Sydney University for $5 (instead of $12 for non-members). Everyone is w
 elcome. To fit COVID regulations\, there is a maximum number of club membe
 rs allowed at the gym at one time so bookings are required.\n\nThe Ledge i
 s the best place to sign-up to the club\, learn\, and plan trips for the w
 eekend! Beginner to advanced friendly!\nAfter climbing we go to the pub (T
 HE FLODGE) for pizza and beer. Usually around 8pm (sometimes a bit earlier
  and sometimes a bit later)\nAs the Flodge also requires bookings please t
 ick whether you have the intention of coming along so we can estimate book
 ing numbers. \n\nPlease note that most members arrive at 5:30pm - 6:00pm\
 , but for $5 climbing you can arrive anytime from 5pm!\n\nAny questions or
  concerns ask around for Zara\, Bennett\, Mira or Ashleigh. Everyone is fr
 iendly.\nSee you there!!\n\n\n\n\n\n***EVENT FULL***\n\nThis event is now 
 full. If you have an approved spot and can't make it anymore please cancel
  your booking or let one of the exec know so we can let someone on the wai
 ting list in\n\n***EVENT FULL***\n\n&nbsp\;\n\n
ATTACH;FMTTYPE=image/jpeg:https://unswoc.org/wordpress/wp-content/uploads/
 2020/06/2938414B-BD27-4292-B440-27AC5EB30802.jpeg
CATEGORIES:Indoor Climbing
END:VEVENT
BEGIN:VTIMEZONE
TZID:Australia/Sydney
X-LIC-LOCATION:Australia/Sydney
BEGIN:DAYLIGHT
DTSTART:20211003T030000
TZOFFSETFROM:+1000
TZOFFSETTO:+1100
TZNAME:AEDT
END:DAYLIGHT
END:VTIMEZONE
END:VCALENDAR