BEGIN:VCALENDAR
VERSION:2.0
PRODID:-//wp-events-plugin.com//7.2.3.1//EN
TZID:Australia/Sydney
X-WR-TIMEZONE:Australia/Sydney
BEGIN:VEVENT
UID:2712@unswoc.org
DTSTART;TZID=Australia/Sydney:20200924T170000
DTEND;TZID=Australia/Sydney:20200924T214500
DTSTAMP:20200923T093224Z
URL:https://unswoc.org/wordpress/events/booking-thursday-the-ledge-2020-09
 -24/
SUMMARY:Booking Thursday @THE LEDGE
DESCRIPTION:Every week we go climbing at The Ledge Climbing Centre at Sydne
 y University for $5 (instead of $12 for non-members). Everyone is welcome.
  To fit COVID regulations\, there is a maximum number of club members allo
 wed at the gym at the time so bookings are required.\n\nThe Ledge is the b
 est place to sign-up to the club\, learn\, and plan trips for the weekend!
 \nSome changes have been made with the Forest Lodge Hotel (AKA The Flo
 dge) where we normally go for dinner. Due to new COVID-19 regulations pub
 s cannot have groups of more than 10.\nFrom THURSDAY 23/07 we will not
  be attending the Flodge. Instead the Flodge will be coming to us!\nThere
  will be a money box and a sheet at the Ledge.\nWhen you arrive write yo
 ur name\, what you're ordering AND HOW YOU PAID (cash vs transfer) on the
  sheet and put your money in the collection box. If you do not have cash
  transfer the club on: Name:UNSWOC BSB:062303 Account Number:10886103 wit
 h your initials and pizza in the description (i.e. John Smith would writ
 e JSpizza).\nShow either Mira\, Liam\, Ashleigh or Bennett your payment re
 ceipt. We will only accept bank transfers from within the last 24hrs to 
 avoid confusion for our treasurer and events team.\nNO ALCOHOL unfortunat
 ely and for now while we work out a system if we could keep it to pizzas t
 hat would be amazing thank you (they cost $12!).\nThe cut off time to or
 der is 6:30pm (if you are running late let one of the above people know 
 and we will see what we can do). Orders will be delivered to the Ledge ar
 ound 8:30 to 9pm.\nWe are all really sorry for the inconvenience and hopef
 ully things will be back to a relative normal soon. If you have any questi
 ons feel free to contact one of us!\n
ATTACH;FMTTYPE=image/jpeg:https://unswoc.org/wordpress/wp-content/uploads/
 2013/07/ledge.jpg
CATEGORIES:Indoor Climbing
END:VEVENT
BEGIN:VTIMEZONE
TZID:Australia/Sydney
X-LIC-LOCATION:Australia/Sydney
BEGIN:STANDARD
DTSTART:20200405T020000
TZOFFSETFROM:+1100
TZOFFSETTO:+1000
TZNAME:AEST
END:STANDARD
END:VTIMEZONE
END:VCALENDAR