BEGIN:VCALENDAR
VERSION:2.0
PRODID:-//wp-events-plugin.com//7.2.3.1//EN
TZID:Australia/Sydney
X-WR-TIMEZONE:Australia/Sydney
BEGIN:VEVENT
UID:2711@unswoc.org
DTSTART;TZID=Australia/Sydney:20200917T170000
DTEND;TZID=Australia/Sydney:20200917T214500
DTSTAMP:20200913T103826Z
URL:https://unswoc.org/wordpress/events/booking-thursday-the-ledge-2020-09
 -17/
SUMMARY:WELCOME LEDGE NIGHT bookings
DESCRIPTION:This week is a special week. As O-Week was cancelled and we can
 ’t have a BBQ we will be holding a WELCOME LEDGE NIGHT!!\n\nAlong with t
 he normal ledge we will reserve spots for non-members who wish to come alo
 ng and ask questions/meet us. It will be $5 for everyone.\n\nAll experienc
 e welcome\, we will do a belay introduction at 6:30 and this is where you 
 can meet new climbing partners (no need to pre organise partners).\n\nAs t
 his is a special week\, if you sign up please turn up\, as we are still li
 mited for spaces.\n\nEvery week we go climbing at The Ledge Climbing Centr
 e at Sydney University for $5 (instead of $12). Everyone is welcome. To fi
 t COVID regulations\, there is a maximum number of club members allowed at
  the gym at the time so bookings are required.\n\nThe Ledge is the best pl
 ace to sign-up to the club\, learn\, and plan trips for the weekend!\nPizz
 a delivery!!\nThere will be a money box and a sheet at the Ledge.     
  Pizza is $12 for students!!\nWhen you arrive write your name\, what you
 're ordering AND HOW YOU PAID (cash vs transfer) on the sheet and put you
 r money in the collection box. If you do not have cash transfer the club
  on: Name:UNSWOC BSB:062303 Account Number:10886103 with your initials an
 d pizza in the description (i.e. John Smith would write JSpizza).\nShow e
 ither Mira\, Ashleigh\, Ava\, Liam or Bennett your payment receipt. We wil
 l only accept bank transfers from within the last 24hrs to avoid confusi
 on for our treasurer and events team.\n\nThe cut off time to order is 7p
 m (if you are running late let one of the above people know and we will s
 ee what we can do). Orders will be delivered to the Ledge around 8:30.\nW
 e are all really sorry for the inconvenience and hopefully things will be 
 back to a relative normal soon. If you have any questions feel free to con
 tact one of us (Mira\, Ava\, Ashleigh Liam or Bennet)!\n\nLet is know in t
 he comments of you sign up with a friend so we can approve you at the same
  time.\n\nHope to see you there!!!\n
ATTACH;FMTTYPE=image/jpeg:https://unswoc.org/wordpress/wp-content/uploads/
 2013/07/ledge.jpg
CATEGORIES:Indoor Climbing
END:VEVENT
BEGIN:VTIMEZONE
TZID:Australia/Sydney
X-LIC-LOCATION:Australia/Sydney
BEGIN:STANDARD
DTSTART:20200405T020000
TZOFFSETFROM:+1100
TZOFFSETTO:+1000
TZNAME:AEST
END:STANDARD
END:VTIMEZONE
END:VCALENDAR