BEGIN:VCALENDAR
VERSION:2.0
PRODID:-//wp-events-plugin.com//7.2.3.1//EN
TZID:Australia/Sydney
X-WR-TIMEZONE:Australia/Sydney
BEGIN:VEVENT
UID:2805@unswoc.org
DTSTART;TZID=Australia/Sydney:20210624T170000
DTEND;TZID=Australia/Sydney:20210624T214500
DTSTAMP:20211107T214614Z
URL:https://unswoc.org/wordpress/events/booking-thursday-the-ledge-2-2021-
 06-24/
SUMMARY:Booking Thursday @THE LEDGE
DESCRIPTION:COVID Reopening Update\n\nIt's that time. In line with easing o
 f restrictions from Monday the 11th of October\, Thursday night Ledge Clim
 bing is back! Here's a list of important things to note.\n\n 	You must boo
 k a spot on this event in order to attend (If you aren't yet a member but 
 you're keen to come along and see what the club's about then send our even
 ts officers Zara Smith or Sammy Millard a message on Facebook\, or email o
 n events@unswoc.org to see if we have a spot for you to come along and che
 ck it all out. Otherwise\, we'll be back to running welcome BBQs and event
 s for non-members soon enough too)\n 	Full vaccination required\n 	Proof o
 f vaccination required\, either via Service NSW app\, Medicare app\, Googl
 e/Apple Wallet\, or a printed copy of your digital certificate\n 	Masks mu
 st be worn when not climbing\n 	QR Code check ins\n 	Social Distancing\n 	
 Flodge details to be confirmed soon. Keep your eyes peeled for pizza annou
 ncements\n\n&nbsp\;\n\nWe're all super keen to see you all back at the Led
 ge. Remember\, if you're feeling unwell the Ledge isn't going anywhere. St
 ay home\, get tested and we'll see you soon enough.\n\n&nbsp\;\n\nUsual Le
 dge Info\n\nThursday is a club night. We go social climbing at The Ledge 
 Climbing Centre at Sydney University for $5 (instead of $12 for non-member
 s). Everyone is welcome. To fit COVID regulations\, there is a maximum num
 ber of club members allowed at the gym at the time so bookings are require
 d.\n\nThe Ledge is the best place to sign-up to the club\, learn\, and pla
 n trips for the weekend! Beginner to advanced friendly!\nAfter climbing we
  go to the pub (THE FLODGE) for pizza and beer. Usually around 8:15 (somet
 imes a bit earlier and sometimes a bit later)\nAs the Flodge also requires
  bookings please tick wether you have the intention of coming along so we 
 can estimate booking numbers. \n\nPlease note that most members arrive at
  6:00pm - 6:30pm\, but for $5 climbing you can arrive anytime from 5pm!\n\
 nAny questions or concerns ask around for Mira\, Ava\, Ashleigh or Bennett
 . Everyone is friendly.\nsee you there!!\n\n
ATTACH;FMTTYPE=image/jpeg:https://unswoc.org/wordpress/wp-content/uploads/
 2020/06/2938414B-BD27-4292-B440-27AC5EB30802.jpeg
CATEGORIES:Indoor Climbing
END:VEVENT
BEGIN:VTIMEZONE
TZID:Australia/Sydney
X-LIC-LOCATION:Australia/Sydney
BEGIN:STANDARD
DTSTART:20210404T020000
TZOFFSETFROM:+1100
TZOFFSETTO:+1000
TZNAME:AEST
END:STANDARD
END:VTIMEZONE
END:VCALENDAR