BEGIN:VCALENDAR
VERSION:2.0
PRODID:-//wp-events-plugin.com//7.2.3.1//EN
TZID:Australia/Sydney
X-WR-TIMEZONE:Australia/Sydney
BEGIN:VEVENT
UID:2787@unswoc.org
DTSTART;TZID=Australia/Sydney:20210218T170000
DTEND;TZID=Australia/Sydney:20210218T214500
DTSTAMP:20210217T230117Z
URL:https://unswoc.org/wordpress/events/booking-thursday-the-ledge-2-2021-
 02-18/
SUMMARY:Booking Thursday @THE LEDGE
DESCRIPTION:Thursday is a club night. We go social climbing at The Ledge C
 limbing Centre at Sydney University for $5 (instead of $12 for non-members
 ). Everyone is welcome. To fit COVID regulations\, there is a maximum numb
 er of club members allowed at the gym at the time so bookings are required
 .\n\nThe Ledge is the best place to sign-up to the club\, learn\, and plan
  trips for the weekend! Beginner to advanced friendly!\nAfter climbing we 
 go to the pub (THE FLODGE) for pizza and beer. Usually around 8:15 (someti
 mes a bit earlier and sometimes a bit later)\nAs the Flodge also requires 
 bookings please tick wether you have the intention of coming along so we c
 an estimate booking numbers. \n\nAny questions or concerns ask around for
  Mira\, Ava\, Ashleigh or Bennett. Everyone is friendly.\nsee you there!!\
 n\n
ATTACH;FMTTYPE=image/jpeg:https://unswoc.org/wordpress/wp-content/uploads/
 2020/06/2938414B-BD27-4292-B440-27AC5EB30802.jpeg
CATEGORIES:Indoor Climbing
END:VEVENT
BEGIN:VTIMEZONE
TZID:Australia/Sydney
X-LIC-LOCATION:Australia/Sydney
BEGIN:DAYLIGHT
DTSTART:20201004T030000
TZOFFSETFROM:+1000
TZOFFSETTO:+1100
TZNAME:AEDT
END:DAYLIGHT
END:VTIMEZONE
END:VCALENDAR