BEGIN:VCALENDAR
VERSION:2.0
PRODID:-//wp-events-plugin.com//7.2.3.1//EN
TZID:Australia/Sydney
X-WR-TIMEZONE:Australia/Sydney
BEGIN:VEVENT
UID:2786@unswoc.org
DTSTART;TZID=Australia/Sydney:20210211T170000
DTEND;TZID=Australia/Sydney:20210211T214500
DTSTAMP:20210210T091325Z
URL:https://unswoc.org/wordpress/events/booking-thursday-the-ledge-2-2021-
 02-11/
SUMMARY:O-week welcome night at THE LEDGE
DESCRIPTION:***edit  -  event full\, please cancel if you change your min
 d so we can approve someone else***\n\n&nbsp\;\n\nO-week is here and that 
 means UNSWOC Welcome Night at the LEDGE climbing centre!\n\n&nbsp\;\n\nEve
 ry Thursday the club meets at the LEDGE at USYD for cheap climbing\, food 
 and good times. This Thursday is a special one for any new members or peop
 le thinking of joining the club. We will be opening up spots for non-membe
 rs keen to come along. So if you're thinking of joining the club\, have an
 y questions\, or just want to meet some of the best people around\, this i
 s the place to be.\n\n&nbsp\;\n\nWE HIGHLY RECOMMEND ADDING A COMMENT ABOU
 T HOW KEEN YOU ARE AND WHY YOU WANT TO COME ALONG. We will book out and th
 ose who put down comments are more likely to be accepted.\n\n&nbsp\;\n\nDU
 E TO COVID GUIDELINES\, BOOKINGS ARE REQUIRED.\n\n&nbsp\;\n\nDetails:\n\n 
 	Most people will arrive around 6pm. But feel free to show up earlier or l
 ater too\n 	No prior climbing experience needed. We will have plenty of pe
 ople there to teach you on the night\n 	No specialist equipment needed\, w
 e will have climbing harnesses for you to borrow when you get there\n 	Sho
 w up by yourself or with friends\, there will be plenty of friendly faces 
 there happy to climb with you\n 	Free entry this week\, normally UNSWOC me
 mbers pay $5\, a special rate down from the usual $12 student entry\n 	Exa
 ct details of food to be confirmed. But don't worry\, you will be fed and 
 happy.\n 	Booking are essential!!! If you are not on the list for this eve
 nt we can not let you in. Please sign up below\n\n 	If your booking is app
 roved and you can not make it for any reason please let us know so we can 
 open up your spot to someone on the waiting list\n\n\n 	Finally\, If you a
 re feeling unwell please do not attend. There will always be another club 
 event\, including welcome nights in the future.\n\n&nbsp\;\n\nIf you have 
 any questions feel free to message/email/talk to myself (Bennett)\, Liam\,
  Mira\, Ash or Ava.\n\n&nbsp\;\n\nKeen to see you all there!\n\n
ATTACH;FMTTYPE=image/jpeg:https://unswoc.org/wordpress/wp-content/uploads/
 2020/06/2938414B-BD27-4292-B440-27AC5EB30802.jpeg
CATEGORIES:Indoor Climbing
END:VEVENT
BEGIN:VTIMEZONE
TZID:Australia/Sydney
X-LIC-LOCATION:Australia/Sydney
BEGIN:DAYLIGHT
DTSTART:20201004T030000
TZOFFSETFROM:+1000
TZOFFSETTO:+1100
TZNAME:AEDT
END:DAYLIGHT
END:VTIMEZONE
END:VCALENDAR