BEGIN:VCALENDAR
VERSION:2.0
PRODID:-//wp-events-plugin.com//7.2.3.1//EN
TZID:Australia/Sydney
X-WR-TIMEZONE:Australia/Sydney
BEGIN:VEVENT
UID:2784@unswoc.org
DTSTART;TZID=Australia/Sydney:20210128T170000
DTEND;TZID=Australia/Sydney:20210128T214500
DTSTAMP:20210123T225946Z
URL:https://unswoc.org/wordpress/events/booking-thursday-the-ledge-2-2021-
 01-28/
SUMMARY:Summer Climbing Night @the ledge
DESCRIPTION:                                   Summer Pro
 gram Climbing Night\n\nOPEN NIGHT - bookings required\n\nWelcome back ever
 yone! Along with the normal ledge we will reserve spots for non-members wh
 o wish to come along and ask questions/meet us. It will be $5 for everyone
 .\n\nAll experience welcome\, we will do a belay introduction at 6:30 and 
 this is where you can meet new climbing partners (no need to pre organise 
 partners).\n\nAs this is a special week\, if you sign up please turn up\, 
 as we are still limited for spaces.\n\nEvery week we go climbing at The Le
 dge Climbing Centre at Sydney University for $5 (instead of $12). Everyone
  is welcome. To fit COVID regulations\, there is a maximum number of club 
 members allowed at the gym at the time so bookings are required.\n\nThe Le
 dge is the best place to sign-up to the club\, learn\, and plan trips for 
 the weekend!\n\nAfter climbing we go to the pub (THE FLODGE) for pizza and
  beer. Usually around 8:15 (sometimes a bit earlier and sometimes a bit la
 ter)\nAs the Flodge also requires bookings please tick wether you have the
  intention of coming along so we can estimate booking numbers. \n\n\nLet
  is know in the comments of you sign up with a friend so we can approve yo
 u at the same time or if you have any question. You can also ask “Mira b
 ug” questions on facebook.\n\nAny questions or concerns on the night\, a
 sk around for any of the exec. Everyone is friendly. Hope to see you there
 !!!\n\n
ATTACH;FMTTYPE=image/jpeg:https://unswoc.org/wordpress/wp-content/uploads/
 2020/06/2938414B-BD27-4292-B440-27AC5EB30802.jpeg
CATEGORIES:Indoor Climbing
END:VEVENT
BEGIN:VTIMEZONE
TZID:Australia/Sydney
X-LIC-LOCATION:Australia/Sydney
BEGIN:DAYLIGHT
DTSTART:20201004T030000
TZOFFSETFROM:+1000
TZOFFSETTO:+1100
TZNAME:AEDT
END:DAYLIGHT
END:VTIMEZONE
END:VCALENDAR