BEGIN:VCALENDAR
VERSION:2.0
PRODID:-//wp-events-plugin.com//7.2.3.1//EN
TZID:Australia/Sydney
X-WR-TIMEZONE:Australia/Sydney
BEGIN:VEVENT
UID:2782@unswoc.org
DTSTART;TZID=Australia/Sydney:20210114T170000
DTEND;TZID=Australia/Sydney:20210114T214500
DTSTAMP:20210113T013037Z
URL:https://unswoc.org/wordpress/events/booking-thursday-the-ledge-2-2021-
 01-14/
SUMMARY:OPEN LEDGE NIGHT
DESCRIPTION:                                   FIRST CLUB
  NIGHT OF 2021\n\nOPEN NIGHT\n\nWelcome back everyone! Along with the norm
 al ledge we will reserve spots for non-members who wish to come along and 
 ask questions/meet us. It will be $5 for everyone.\n\nAll experience welco
 me\, we will do a belay introduction at 6:30 and this is where you can mee
 t new climbing partners (no need to pre organise partners).\n\nAs this is 
 a special week\, if you sign up please turn up\, as we are still limited f
 or spaces.\n\nEvery week we go climbing at The Ledge Climbing Centre at Sy
 dney University for $5 (instead of $12). Everyone is welcome. To fit COVID
  regulations\, there is a maximum number of club members allowed at the gy
 m at the time so bookings are required.\n\nThe Ledge is the best place to 
 sign-up to the club\, learn\, and plan trips for the weekend!\n\nAfter cli
 mbing we go to the pub (THE FLODGE) for pizza and beer. Usually around 8:1
 5 (sometimes a bit earlier and sometimes a bit later)\nAs the Flodge also 
 requires bookings please tick wether you have the intention of coming alon
 g so we can estimate booking numbers. \n\n\nLet is know in the comments 
 of you sign up with a friend so we can approve you at the same time or if 
 you have any question. You can also ask “Mira bug” questions on facebo
 ok.\n\nAny questions or concerns on the night\, ask around for any of the 
 exec. Everyone is friendly. Hope to see you there!!!\n\n
ATTACH;FMTTYPE=image/jpeg:https://unswoc.org/wordpress/wp-content/uploads/
 2020/06/2938414B-BD27-4292-B440-27AC5EB30802.jpeg
CATEGORIES:Indoor Climbing
END:VEVENT
BEGIN:VTIMEZONE
TZID:Australia/Sydney
X-LIC-LOCATION:Australia/Sydney
BEGIN:DAYLIGHT
DTSTART:20201004T030000
TZOFFSETFROM:+1000
TZOFFSETTO:+1100
TZNAME:AEDT
END:DAYLIGHT
END:VTIMEZONE
END:VCALENDAR