BEGIN:VCALENDAR
VERSION:2.0
PRODID:-//wp-events-plugin.com//7.2.3.1//EN
TZID:Australia/Sydney
X-WR-TIMEZONE:Australia/Sydney
BEGIN:VEVENT
UID:3438@unswoc.org
DTSTART;TZID=Australia/Sydney;VALUE=DATE:20240706
DTEND;TZID=Australia/Sydney;VALUE=DATE:20240707
DTSTAMP:20240703T023542Z
URL:https://unswoc.org/wordpress/events/bonus-intermediate-bungonia-cave-e
 xploration/
SUMMARY:Trip full Bonus Intermediate Bungonia Cave Exploration
DESCRIPTION:\n\nNB: COMMENTS WITH APPLICATION ARE A MUST\, please read all 
 the way through.Hey Folks!\nCindy and I (Zee) will be down in Bungonia thi
 s weekend and thought to run a trip on Saturday for some caving. This trip
  would suit those with their own gear.\nAs of yet\, we are unsure which ho
 les we will poke our heads into but they may include abseiling and ascendi
 ng\, thus experience with rope is preferred. There will definitely be dust
 \, crawling\, squeezing and scrambling.\n\n\n                   
                                                  
          Sauce: BBC Science FocusWe are planning to drive down Friday
  night and camp but you can drive down Saturday morning.  Bungonia has a 
 luxurious campground\, with hot showers\, a kitchen and toilet.  Coming F
 riday evening is an option however you need to be prepared for some fairly
  chilly weather (-5c to -10c sleeping bags recommended).\nWhat YOU need to
  bring:\n\n 	Enclosed grippy shoes\n 	Long sleeved clothes/long pants that
  you are comfortable getting dirty/will keep you warm for a full day in th
 e cave\n 	Gloves (gardening gloves are best)\n 	Soft knee pads and elbow p
 ads are nice\n 	Helmet*\n 	Harness*\n 	Descender* (Figure 8/raprack etc.)\
 n 	Prusik/biner*\n 	Sling/biner (safety)*\n 	Set of ascenders*\n 	Headtorc
 h\n 	Spare batteries for headtorch or secondary torch\n 	Food/snacks for t
 he day\n 	At least 1L water\n 	Emergency blanket\n 	Small bag to carry eve
 rything\n 	Personal medications\n\n*We will bring a couple of spares\n\nEv
 en if you aren't camping\, bringing a change of clothes and toiletries for
  a shower after are a great idea.\n\nSo we know you got this far please in
 clude in the comment your experience (outdoors background and whether you 
 have any caving/abseiling/ascending experience)\, where you would be leavi
 ng from and what cave snack you would bring to share.\n\nAny questions\, p
 lease message Cindy or Myself.\n\nCheers\,\nZee + Cindy\n\n**Don't be too 
 dismayed if you aren't accepted or don't have the requisite experience\, k
 eep an eye out for the coming Bungonia Palooza and caving trips.
ATTACH;FMTTYPE=image/jpeg:https://unswoc.org/wordpress/wp-content/uploads/
 2024/07/Timor-2.png
CATEGORIES:Caving
LOCATION:https://maps.app.goo.gl/t4YV5aNVDfzPBhgWA
END:VEVENT
BEGIN:VTIMEZONE
TZID:Australia/Sydney
X-LIC-LOCATION:Australia/Sydney
BEGIN:STANDARD
DTSTART:20240407T020000
TZOFFSETFROM:+1100
TZOFFSETTO:+1000
TZNAME:AEST
END:STANDARD
END:VTIMEZONE
END:VCALENDAR