BEGIN:VCALENDAR
VERSION:2.0
PRODID:-//wp-events-plugin.com//7.2.3.1//EN
TZID:Australia/Sydney
X-WR-TIMEZONE:Australia/Sydney
BEGIN:VEVENT
UID:2274@unswoc.org
DTSTART;VALUE=DATE:20180819
DTEND;VALUE=DATE:20180820
DTSTAMP:20180815T062831Z
URL:https://unswoc.org/wordpress/events/bonnet-bay-climbing/
SUMMARY:Bonnet Bay Climbing
DESCRIPTION:Come join Sophie Julie and myself (Henry) for some outdoor spor
 t climbing this Sunday the 19th at Bonnet Bay. All abilities welcome.\n\nS
 hoot Henry a message on facebook if you have any questions.\n\nYou will ne
 ed:\n\n 	*Helmet\n 	*Harness\n 	*Belay device + Locking Carabiner\n 	*Clim
 bing Shoes\n 	Food + water (at least 1.5L!!)\n 	Backpack to carry the abov
 e\n 	warm clothing most likely!\n 	petrol money for you driver\n 	good vib
 es\n\n*These items can be borrowed from the club\nPlease either message me
  or put in the comments if you require any gear!
END:VEVENT
END:VCALENDAR