BEGIN:VCALENDAR
VERSION:2.0
PRODID:-//wp-events-plugin.com//7.2.3.1//EN
TZID:Australia/Sydney
X-WR-TIMEZONE:Australia/Sydney
BEGIN:VEVENT
UID:3506@unswoc.org
DTSTART;TZID=Australia/Sydney;VALUE=DATE:20241103
DTEND;TZID=Australia/Sydney;VALUE=DATE:20241104
DTSTAMP:20241028T032210Z
URL:https://unswoc.org/wordpress/events/boars-head-multi-pitch-sunday-inte
 rmediate-sport-climbing/
SUMMARY:*FULL* Boars Head Multi Pitch Sunday Intermediate Sport Climbing
DESCRIPTION:Hey everyone\,\n\nThis weekend\, on Sunday the 3rd\, Myself (Ga
 briel)\, Jason\, and Sophia will be running an intermediate Multi Pitch Sp
 ort Climbing day at Boars Head. (BLUE MOUNTAINS) Please read the discripti
 on FULLY before signing up.\n\n&nbsp\;\n\nSignups open 12pm Noon on Monday
  the 28th. \n\n&nbsp\;\n\nThe the are 2 diffrent mutli pitches that we wi
 l choose between\, with the approch being 4 very amazing absails.\n\nThe 2
  route are\;\n\nShandy - 99m\, 3 pitches. Grades 8\,8\,6.\n\nDirty Rotten 
 Pigs - 130m\, 4 pitches. Grades 19\,19\,17\,14\n\nWe will be split up into
  groups\, and decide beforhand the most appropriate routes for each party.
 \n\n&nbsp\;\n\nWhile you do not have to have done a multi-pitch before\, t
 his will be an intermediate trip as you are expected to be competent with:
 \n\n 	Lead climbing and belaying\n 	Cleaning and basic abseiling skills\n 
 	Basic personal organisational skills\n\n&nbsp\;\n\nThis will be an all da
 y event and we will carpool from Sydney early on sun morning\, so please l
 et us know in the comment if you have a car and where you will leave from.
  Note this is another weather dependent trip of course but fingers crossed
  for a dry day. Only after you have been accepted\, we will make a group c
 hat for the trip.\n\nYou will need to bring the following:\n\n 	Climbing h
 arness*\n 	Climbing helmet*\n 	Belay device (eg ATC guide) + two locking c
 arabiners*\n 	Safety sling + locking carabiner*\n 	2 prusiks*\n 	Climbing 
 shoes* (COMFORTABLE - i.e. not your aggressive indoor bouldering shoes\, y
 ou'll be standing in them all day)\n 	Gear for anchor* (eg 120cm sling and
  two locking carabiners)\n 	2L of water\n 	Lunch\, snacks\n 	Medication\, 
 if needed\n 	Headtorch + spare batteries\n 	A small backpack (assume you'l
 l need to climb with all your belongings\, including your approach shoes)\
 n 	Wind breaker or jumper (it can get very windy)\n 	Sunscreen\, sunglasse
 s etc.\n\nItems marked *  can be borrowed from the Gear Cupboard open Thu
 rsdays 5-6pm\n\nIf you are keen to sign up\, please include in your commen
 t your climbing/ multi experience (VERY IMPORTANT) - include frequency and
  rough sport grades\, and any rope skills experience (abseiling\, ascendin
 g etc.). Also let us know if you have a car and include a link to your Fac
 ebook profile or a phone number in case we have more questions for you... 
 IF YOU DONT ANSWER THE QUESTIONS\, WE CANT LET YOU ON THE TRIP.\n\nPlease 
 be aware that we can only take 5 participants on this trip. Again\, Sign u
 ps will open on MONDAY 28th at 12pm just to give everyone a chance to see 
 this trip post first.\n\n&nbsp\;\n\nIf you have any further questions\, pl
 ease feel free to shoot us a message on facebook.\n\nGet keen!\n\nGabriel\
 , Jason\, Sophia.
CATEGORIES:Outdoor Climbing
LOCATION:https://www.google.com/maps/place/Boars+Head+Lookout/@-33.7209921,
 150.2840124,275m/data=!3m1!1e3!4m10!1m2!2m1!1sboar's+head+blue+mountains!3
 m6!1s0x6b126c127315579f:0xfd8298f04b280111!8m2!3d-33.7209197!4d150.2848152
 !15sChpib2FyJ3MgaGVhZCBibHVlIG1vdW50YWluc5IBC3NjZW5pY19zcG904AEA!16s%2Fg%2
 F11fx7p2m3s?entry=ttu&g_ep=EgoyMDI0MTAyMy4wIKXMDSoASAFQAw%3D%3D
END:VEVENT
BEGIN:VTIMEZONE
TZID:Australia/Sydney
X-LIC-LOCATION:Australia/Sydney
BEGIN:DAYLIGHT
DTSTART:20241006T030000
TZOFFSETFROM:+1000
TZOFFSETTO:+1100
TZNAME:AEDT
END:DAYLIGHT
END:VTIMEZONE
END:VCALENDAR