BEGIN:VCALENDAR
VERSION:2.0
PRODID:-//wp-events-plugin.com//7.2.3.1//EN
TZID:Australia/Sydney
X-WR-TIMEZONE:Australia/Sydney
BEGIN:VEVENT
UID:3776@unswoc.org
DTSTART;TZID=Australia/Sydney:20260411T090000
DTEND;TZID=Australia/Sydney:20260412T173000
DTSTAMP:20260403T110930Z
URL:https://unswoc.org/wordpress/events/blueys-climbing-weekend-intermedia
 te/
SUMMARY:Blueys Climbing Weekend [Intermediate]
DESCRIPTION:Marley and I (Raine) are running a climbing and camping weekend
  at the Blueys. See his incredible Facebook post for more info.\n\nWe will
  be climbing Sat/Sun April 11/12th\, camping at Mt York\, we might end up 
 swimming weather permitting.\n\nDay 1: Little River\n\nDay 2: Harder Crag 
 (TBD)\n\nIf it's raining on Saturday\, we'll be running the standard Bell 
 daytrip instead.\n\nWe will only be taking 6 people. The primary aim of th
 is weekend is to encourage budding outdoor lead-climbers.\n\nMoreover\, ev
 eryone coming on this AMAZING weekend will need to satisfy the following:\
 n\nClimbing experience:\n\n 	Have experience lead climbing indoors or outd
 oors (most ideal)\n 	OR Have mock-led at least once before and are mega st
 oked\n\nCamping Experience\n\n 	You MUST be a self-sufficient camper\n\nCl
 imbing Gear List (Please bring or borrow from the gear cupboard the follow
 ing):\n\n 	Harness\n 	Helmet\n 	Climbing Shoes (that you have tried on)\n 
 	Safety/PAS (Feel free to ask questions about this)\n 	2 Locking Biners\n 
 	Optional: Chalk Bag\n\nPlease let us know:\n\n 	How many times you've cli
 mbed outdoors?\n 	Where you are on your leading climbing journey (includin
 g how many times you have mock-led if relevant)?\n 	What grades you normal
 ly climb at St Peters?\n 	Do you own a grigri and/or rope?\n 	What is your
  camping experience?\n\nAnswering all the questions in detail increases yo
 ur chances of getting accepted.
ATTACH;FMTTYPE=image/jpeg:https://unswoc.org/wordpress/wp-content/uploads/
 2026/03/Mike-Climbing.jpg
CATEGORIES:Outdoor Climbing
LOCATION:https://maps.app.goo.gl/snY4tvYpcDp7geaF7
END:VEVENT
BEGIN:VTIMEZONE
TZID:Australia/Sydney
X-LIC-LOCATION:Australia/Sydney
BEGIN:STANDARD
DTSTART:20260405T020000
TZOFFSETFROM:+1100
TZOFFSETTO:+1000
TZNAME:AEST
END:STANDARD
END:VTIMEZONE
END:VCALENDAR