BEGIN:VCALENDAR
VERSION:2.0
PRODID:-//wp-events-plugin.com//7.2.3.1//EN
TZID:Australia/Sydney
X-WR-TIMEZONE:Australia/Sydney
BEGIN:VEVENT
UID:2105@unswoc.org
DTSTART:20170310T200000Z
DTEND:20170311T080000Z
DTSTAMP:20170306T135824Z
URL:https://unswoc.org/wordpress/events/blueys-beginners-climbing/
SUMMARY:Bluey's Climbing
DESCRIPTION:Hello! Myself (Manon) and Chris will be running a beginners/int
 ermediate sports climbing trip in the Blue Mountains this Saturday the 11t
 h\; most likely Shipley Upper or Barden's lookout depending on the weather
 .\n\nGear nights are Tuesday and Wednesday\, contact myself on Facebook if
  you cant make it.\n\nWe will be leaving from Uni EARLY Saturday morning\,
  let us know in the comments section if you can drive\,we need another dri
 ver otherwise some people may have to catch the train.\n\nI'll contact eve
 ryone on Facebook once we have the group sorted!\n\nThings to bring:\n\n	H
 arness\n	Helmet\n	belay device\n	Shoes and chalk bag\n	lunch and water\n	Y
 our own gear if you have it\n	sunscreen\, bug spray\n\n&nbsp\;
CATEGORIES:Outdoor Climbing
END:VEVENT
END:VCALENDAR