BEGIN:VCALENDAR
VERSION:2.0
PRODID:-//wp-events-plugin.com//7.2.3.1//EN
TZID:Australia/Sydney
X-WR-TIMEZONE:Australia/Sydney
BEGIN:VEVENT
UID:888@unswoc.org
DTSTART:20150815T203000Z
DTEND:20150816T060000Z
DTSTAMP:20151023T000919Z
URL:https://unswoc.org/wordpress/events/blueys-beginner-climbing/
SUMMARY:Blueys Beginner Climbing - Cosmic County
DESCRIPTION:Heya Guys and Girls\,\n\nNicola\, Timo and I will be running a 
 beginners climbing trip this weekend in the Blue Mountains. The exact crag
  is yet to be decided. You can be a complete beginner\, but I would recomm
 end you have been indoor climbing at least 3 or 4 times to be able to get 
 something out of it and get up stuff!\n\nMeeting at the South West corner 
 of the Physics Lawn UNSW at 7:30am to carpool up there\, please fb message
  me if you have a car or any questions.\n\nAlso important\, you must learn
  how to tie a rethreaded figure of 8\, or you will die! See here: Re-threa
 ded Figure 8\n\nOf course you must have an experienced climber check your 
 figure 8 knot and the belay device set up (which we'll teach you on the da
 y) before you even think about stepping off the ground\, so don't worry\, 
 we'll make sure you have it correct and are safe. You may have to watch th
 e video a couple of times to get the re-threading just right. Practice wit
 h shoe laces or whatever cord you can find.\n\nGEAR REQUIRED\n\nCan be bor
 rowed at the Gear Cupboard (at Sam Cracknell UNSW) on Wednesday evenings:\
 n- Helmet\n- Belay Plate and Carabiner\n- Harness\n- Climbing Shoes\n\nAls
 o required:\n- Petrol Money for yo driver\n- Warm Clothes\n- Food\n- 1.5L 
 of Water (I mean it!)\n- Lollies and chocolate for erbody\, especially you
 r hardworking lovely trip leaders! \;)\n\nClick attend trip below if you'r
 e keen.\nNote: Clicking attend trip doesn't guarantee your spot\, we must 
 then approve you\, which we definitely will if there is still space!\n\nSe
 e you out there!\n\nBrendan
CATEGORIES:Outdoor Climbing
LOCATION:\, \, 
X-APPLE-STRUCTURED-LOCATION;VALUE=URI;X-ADDRESS=\, ;X-APPLE-RADIUS=100;X-TI
 TLE=:geo:0,0
END:VEVENT
END:VCALENDAR