BEGIN:VCALENDAR
VERSION:2.0
PRODID:-//wp-events-plugin.com//7.2.3.1//EN
TZID:Australia/Sydney
X-WR-TIMEZONE:Australia/Sydney
BEGIN:VEVENT
UID:301@unswoc.org
DTSTART;VALUE=DATE:20130914
DTEND;VALUE=DATE:20130916
DTSTAMP:20130909T183732Z
URL:https://unswoc.org/wordpress/events/blue-mountains-sporting-life/
SUMMARY:Blue Mountains sporting life
DESCRIPTION:Hey guys\,\n\nMyself and a few mates are planning on climbing i
 n the Mountains around Beth's birthday. We are climbing Saturday day\, spe
 nding Sat night at Beth's\, then more sporting Sunday. Most likely we will
  be in the Glen/Shipley.\n\nFeel free to tag along\, however you will need
  to look after yourself - leading experience is required. BYO gear\, food 
 and transport unless preorganised.\n\nCheers guys\, look forward to craggi
 ng with you all!
LOCATION:\, \, 
X-APPLE-STRUCTURED-LOCATION;VALUE=URI;X-ADDRESS=\, ;X-APPLE-RADIUS=100;X-TI
 TLE=:geo:0,0
END:VEVENT
END:VCALENDAR