BEGIN:VCALENDAR
VERSION:2.0
PRODID:-//wp-events-plugin.com//7.2.3.1//EN
TZID:Australia/Sydney
X-WR-TIMEZONE:Australia/Sydney
BEGIN:VEVENT
UID:620@unswoc.org
DTSTART:20140928T210000Z
DTEND:20140930T060000Z
DTSTAMP:20140927T162433Z
URL:https://unswoc.org/wordpress/events/blue-mountains-sport-trip-intermed
 iate/
SUMMARY:Blue Mountains Sport Trip - Intermediate
DESCRIPTION:To kick of the mid-semester break Nick and myself will be head
 ing to the blueys for a couple days of climbing. The plan is to camp overn
 ight at Mount Wilson and climb both Monday and Tuesday.  We will be headi
 ng to the camp ground on Monday afternoon and will camp until Tuesday mor
 ning. If you come camping you will need all your own camping gear and it w
 ill be a good idea to bring warm clothes as its still cold at night and in
  the morning.\n\nUnfortunately the trip is only open to reasonably compete
 nt lead climbers\, and you will need to bring your own climbing kit. I wil
 l throw a few extra ropes in\, but everything like draws\, harness etc you
  will need to bring.\n\nSo far we have decided to hit Shipley Upper on Mon
 day morning and Tuesday's location will be decided closer to the date.\n\n
 http://www.thecrag.com/climbing/australia/blue-mountains/shipley-upper\n\n
 If you have any questions flip me a text 0431 242 642\n\nCheers\n\nJordan
CATEGORIES:Outdoor Climbing
LOCATION:Cathedral Reserve Camping Ground\, \, 
GEO:0.000000;0.000000
X-APPLE-STRUCTURED-LOCATION;VALUE=URI;X-ADDRESS=\, ;X-APPLE-RADIUS=100;X-TI
 TLE=Cathedral Reserve Camping Ground:geo:0.000000,0.000000
END:VEVENT
END:VCALENDAR