BEGIN:VCALENDAR
VERSION:2.0
PRODID:-//wp-events-plugin.com//7.2.3.1//EN
TZID:Australia/Sydney
X-WR-TIMEZONE:Australia/Sydney
BEGIN:VEVENT
UID:530@unswoc.org
DTSTART;VALUE=DATE:20140817
DTEND;VALUE=DATE:20140818
DTSTAMP:20140814T164958Z
URL:https://unswoc.org/wordpress/events/blue-mountains-hiking-17082014/
SUMMARY:Blue Mountains Bushwalking - Rodriguez Pass-Junction Rock-Horse Tra
 ck
DESCRIPTION:Hola all\,\n\nTilly and I are running a beginners hiking trip i
 n the blue mountains\, on one of the most spectacular (in my opinion) trac
 ks in the blue mountains\, Rodriguez Pass. It is a spectacular cliff-face 
 path down to the valley floor along rivers and waterfalls.\n\nFor those ne
 w to the club\, who either want to get fit (there will be plenty of stairs
 )\, or who simply want to see the Blue mountains this is a great trip to s
 tart with.\n\nSince it is a DAY HIKE\, you do not need tents and sleeping 
 bags for the hike. You'll need\n\n-food (lunch and snacks) and water (plen
 ty of it)\n\n-some warm clothes\n\n-very comfortable shoes/boots (while mo
 st of the track is in good condition\, some parts are a little rougher)\n\
 n-sunscreen\n\n-headtorch\n\nIf you want advice regarding anything about c
 lothing/gear\, facebook either Tilly or myself.\n\nEveryone is welcome.\n\
 nTo get there: I'm planning be heading up the night before\, to camp at a 
 nearby campground. If you want to come up at then and camp let me know via
  facebook. Otherwise\, Tilly will be heading up very early on Sunday morni
 ng. If you want to come and miss out on both cars\, you'll have to get the
  train. We'll be meeting at 10am at Govetts leap to start the walk!\n\nSam
  and Tilly.
ATTACH;FMTTYPE=image/jpeg:https://unswoc.org/wordpress/wp-content/uploads/
 2014/08/Rodriguez-Pass.jpg
CATEGORIES:Bushwalking
END:VEVENT
END:VCALENDAR