BEGIN:VCALENDAR
VERSION:2.0
PRODID:-//wp-events-plugin.com//7.2.3.1//EN
TZID:Australia/Sydney
X-WR-TIMEZONE:Australia/Sydney
BEGIN:VEVENT
UID:3576@unswoc.org
DTSTART;TZID=Australia/Sydney:20250401T044500
DTEND;TZID=Australia/Sydney:20250401T234500
DTSTAMP:20250331T133004Z
URL:https://unswoc.org/wordpress/events/blue-mountains-hike-today/
SUMMARY:Blue Mountains Hike - Today!
DESCRIPTION:Hey UNSWOC!\nI was planning a simple hike this weekend but thin
 gs have taken a turn.\nWe’ve just received intel from the guy I met last
  night that a small group of lost penguins has been spotted deep in the Bl
 ue Mountains. How did they get there? No one knows. What we do know is tha
 t it’s our duty to rescue them before the Blue Mountains Panther gets to
  them!\n[kad_youtube url="https://www.youtube.com/watch?v=C6xjQCMmols"]\n\
 n\n\n\nTrip Details:\n\n 	Date: Today\; Tuesday 2025-04-01\n 	Meeting Poin
 t: UNSWOC Gear Cupboard (near Village Green)\n 	Time: 3:30 AM (penguins ar
 e most active at dawn)\n 	Cost: Free\, but you may need to bribe the pengu
 ins with fish.\n\n\n\n\nWhat We’ll Be Doing:\n\n 	A navigation crash cou
 rse around uni\, led by our resident Rogaining champion. We will then take
  the arc bus to the Blue Mountains.\n 	Crossing rivers\, climbing cliffs\,
  and possibly navigating quicksand (the Colo River is notorious for Quicks
 and)\n\n 	Harness not required\, we will use the friction of your pants to
  control your descent\n\n\n 	Avoiding park rangers who “may not believe
 ” our mission is necessary\n 	A brief but important lesson on penguin co
 mmunication led by the guy I met last night\n 	Releasing them into the Nep
 ean River at Penrith so that they can float out into the Ocean\n\n\n\n\nPa
 cking List:\n\n 	Hiking boots\, wetsuit\, and tuxedo (to blend in)\n 	Emer
 gency sardines\n 	A large towel (penguins like to be swaddled)\n 	An ultra
 light kayak if you have one. If not\, we’ll make do\n 	No DHMO under any
  circumstances - see dhmo.org\n\nLet us know in the booking comments your 
 experience with speaking Penguinese!\n\nIf you haven't figured it out alre
 ady\, this is an April Fools joke. Don't fret though\, there are a handful
  of trips continuing on this weekend\, and I will run a real hiking trip s
 hortly :)
CATEGORIES:Biking,Canyoning,Caving,Climbing,Hectic Hiking,Kayaking,Snow
LOCATION:https://www.youtube.com/watch?v=dQw4w9WgXcQ
END:VEVENT
BEGIN:VTIMEZONE
TZID:Australia/Sydney
X-LIC-LOCATION:Australia/Sydney
BEGIN:DAYLIGHT
DTSTART:20241006T030000
TZOFFSETFROM:+1000
TZOFFSETTO:+1100
TZNAME:AEDT
END:DAYLIGHT
END:VTIMEZONE
END:VCALENDAR