BEGIN:VCALENDAR
VERSION:2.0
PRODID:-//wp-events-plugin.com//7.2.3.1//EN
TZID:Australia/Sydney
X-WR-TIMEZONE:Australia/Sydney
BEGIN:VEVENT
UID:454@unswoc.org
DTSTART:20140315T210000Z
DTEND:20140316T043000Z
DTSTAMP:20140312T123228Z
URL:https://unswoc.org/wordpress/events/blue-mountains-crag-care-working-d
 ay-shipleycentennial-glen-blackheath/
SUMMARY:Blue Mountains Crag Care working day @ Shipley/Centennial Glen\, Bl
 ackheath
DESCRIPTION:\n\nMy mate Colin climbing Jack High (19) at Shipley. The track
  work is along the escarpment right below here.\n\nThis coming Sunday\, 16
 th March\, will be the next Blue Mountains Crag Care event and I'm organis
 ing a group from UNSWOC to lend a hand. The work this weekend will be most
 ly contributing to the ongoing track work at Shipley and Centennial Glen c
 limbing areas. I was there last weekend and already sections of the track 
 have been improved with nice sandstone steps and small retaining walls. If
  you haven't been to this area before it is a very pretty area with views 
 over the Kanimbla Valley from sections of the track that we'll be working 
 on (it runs along a tier between two large cliff bands and under some of t
 he Mountains' best sport climbing). The organisers will provide tools\, pr
 otective equipment and a bbq for lunch so please sign up here to confirm i
 f you can make it - I need to let the organisers know for catering purpose
 s.\n\nThe work day usually runs from 8am to 3.30\, but if you can only com
 e later or need to leave earlier then that's ok too. Weather and enthusias
 m permitting\, we should also be able to squeeze in a few climbs after wor
 k so bring your gear!\n\nHope to see you there\,\n\nRene\n\n&nbsp\;
CATEGORIES:Social Event
LOCATION:Blackheath\, Centennial Glen/Blackheath carpark\, Centennial Glen 
 Rd\, Blackheath\, NSW\, Australia
GEO:-33.639690;150.275803
X-APPLE-STRUCTURED-LOCATION;VALUE=URI;X-ADDRESS=Centennial Glen/Blackheath 
 carpark\, Centennial Glen Rd\, Blackheath\, NSW\, Australia;X-APPLE-RADIUS
 =100;X-TITLE=Blackheath:geo:-33.639690,150.275803
END:VEVENT
END:VCALENDAR