BEGIN:VCALENDAR
VERSION:2.0
PRODID:-//wp-events-plugin.com//7.2.3.1//EN
TZID:Australia/Sydney
X-WR-TIMEZONE:Australia/Sydney
BEGIN:VEVENT
UID:475@unswoc.org
DTSTART:20140516T130000Z
DTEND:20140518T060000Z
DTSTAMP:20140422T174330Z
URL:https://unswoc.org/wordpress/events/blue-mountains-crag-care-and-climb
 ing/
SUMMARY:Blue Mountains Crag Care and climbing
DESCRIPTION:Saturday\, 17th March\, will be the next Blue Mountains Crag Ca
 re event and\, like the last one in March\, I’m organising a group from 
 UNSWOC to lend a hand. The work will be most likely be continuing the trac
 k work near the Shipley and Centennial Glen climbing areas and involves la
 ndscaping with rocks and dirt. So if you want to get your hands dirty come
  check it out! If you haven’t been to this area before it is a very pret
 ty area with views over the Kanimbla Valley from sections of the track tha
 t we’ll be working on (it runs along a tier between two large cliff band
 s and under some of the Mountains’ best sport climbing). The organisers 
 will provide tools\, protective equipment and a bbq for lunch so please si
 gn up here to confirm if you can make it – I need to let the organisers 
 know our numbers for catering purposes.\n\nThe work day usually runs from 
 8am to 3.30\, but if you can only come later or need to leave earlier then
  that’s ok too.\n\nSince we'll be in the mountains lets make a weekend o
 f it! We can camp somewhere nearby and head out climbing on the Sunday\, w
 eather and enthusiasm permitting! This trip is open to all\, but numbers a
 re limited to 12.\n\nHope to see you there\,\n\nRene - 0413 210 731
CATEGORIES:Outdoor Climbing
LOCATION:\, \, 
X-APPLE-STRUCTURED-LOCATION;VALUE=URI;X-ADDRESS=\, ;X-APPLE-RADIUS=100;X-TI
 TLE=:geo:0,0
END:VEVENT
END:VCALENDAR