BEGIN:VCALENDAR
VERSION:2.0
PRODID:-//wp-events-plugin.com//7.2.3.1//EN
TZID:Australia/Sydney
X-WR-TIMEZONE:Australia/Sydney
BEGIN:VEVENT
UID:287@unswoc.org
DTSTART:20130822T200000Z
DTEND:20130823T080000Z
DTSTAMP:20130821T205117Z
URL:https://unswoc.org/wordpress/events/blue-mountains-climbing/
SUMMARY:Blue Mountains climbing
DESCRIPTION:In search of some taller cliffs (and some easier sport climbing
 )\, this trip is heading up to Bardens Lookout. It's 6km from Mount Victor
 ia train station\, so you'll need a bicycle.\n\nI'll be getting the 7.24am
  train from Redfern (come on people\, it's not that bad - you can sleep on
  the train if you want). That gets us to Mt Vic at 9.45\, so we should be 
 at the crag and climbing by 10.30.\n\nI'll probably head back to arrive ar
 ound 7pm in Sydney\, but if you need to leave earlier that's fine.\n\nCrag
  guide: http://www.thecrag.com/climbing/australia/blue-mountains/bardens-l
 ookout\n\nAs usual you'll need your own gear\, let me know if you need to 
 borrow stuff.\n\nMy number: 0422 521 598
CATEGORIES:Outdoor Climbing
LOCATION:\, \, 
X-APPLE-STRUCTURED-LOCATION;VALUE=URI;X-ADDRESS=\, ;X-APPLE-RADIUS=100;X-TI
 TLE=:geo:0,0
END:VEVENT
END:VCALENDAR