BEGIN:VCALENDAR
VERSION:2.0
PRODID:-//wp-events-plugin.com//7.2.3.1//EN
TZID:Australia/Sydney
X-WR-TIMEZONE:Australia/Sydney
BEGIN:VEVENT
UID:3678@unswoc.org
DTSTART;TZID=Australia/Sydney:20251108T070000
DTEND;TZID=Australia/Sydney:20251109T190000
DTSTAMP:20251108T202551Z
URL:https://unswoc.org/wordpress/events/blue-mountains-canyoning-weekend-i
 ntermediate/
SUMMARY:Blue Mountains Canyoning Weekend - Intermediate
DESCRIPTION:Canyoning trip suitable for anyone who has been canyoning befor
 e.\nSaturday we'll do Ranon canyon (ropewiki.com/Ranon) via the Ranon Broo
 k entrance. It's not a "hard" canyon... just long... so you know... be up 
 for that.\n\nOn Saturday night we'll camp at Mt Wilson. Sunday we will do 
 Arethusa https://ropewiki.com/Arethusa_Canyon and maybe Fortress (https://
 ropewiki.com/Fortress) if we have time… but unlikely.\n\nTrip led by Raf
 f O'Grady\, Leo J\, Sudarshan and supported by Alex Motyka.\n\n&nbsp\;\n\n
CATEGORIES:Canyoning
LOCATION:https://maps.app.goo.gl/9JyAVj5A17RJmUqm6
END:VEVENT
BEGIN:VTIMEZONE
TZID:Australia/Sydney
X-LIC-LOCATION:Australia/Sydney
BEGIN:DAYLIGHT
DTSTART:20251005T030000
TZOFFSETFROM:+1000
TZOFFSETTO:+1100
TZNAME:AEDT
END:DAYLIGHT
END:VTIMEZONE
END:VCALENDAR