BEGIN:VCALENDAR
VERSION:2.0
PRODID:-//wp-events-plugin.com//7.2.3.1//EN
TZID:Australia/Sydney
X-WR-TIMEZONE:Australia/Sydney
BEGIN:VEVENT
UID:2464@unswoc.org
DTSTART;TZID=Australia/Sydney;VALUE=DATE:20190906
DTEND;TZID=Australia/Sydney;VALUE=DATE:20190909
DTSTAMP:20190902T082047Z
URL:https://unswoc.org/wordpress/events/blue-lake-minus-the-ice-climbing/
SUMMARY:Blue Lake minus the ice climbing
DESCRIPTION:This is for the extra people who are coming camping at blue lak
 e. \nThe plan is \nFriday: drive down\, higher snow shoes and snow shoe as
  far as we can and camp.\nSaturday: snow shoe the rest of the way in\, set
  up camp\, explore on the area\, maybe laugh at the ice climbers\, build s
 now caves\, make green gin jelly\, cook some grub and generally have a fab
  time. \nSunday: do some more exploring\, pack up camp\, snow shoe out and
  spit ways to Sydney or araps!!\nSigning up for this event basically means
  we are insured and so we can have some idea about organising cars\, tents
 \, food and poo tubes. \nIm not the trip leader but I am bossy and organis
 ed. 
END:VEVENT
BEGIN:VTIMEZONE
TZID:Australia/Sydney
X-LIC-LOCATION:Australia/Sydney
BEGIN:STANDARD
DTSTART:20190407T020000
TZOFFSETFROM:+1100
TZOFFSETTO:+1000
TZNAME:AEST
END:STANDARD
END:VTIMEZONE
END:VCALENDAR