BEGIN:VCALENDAR
VERSION:2.0
PRODID:-//wp-events-plugin.com//7.2.3.1//EN
TZID:Australia/Sydney
X-WR-TIMEZONE:Australia/Sydney
BEGIN:VEVENT
UID:2683@unswoc.org
DTSTART;TZID=Australia/Sydney;VALUE=DATE:20200821
DTEND;TZID=Australia/Sydney;VALUE=DATE:20200824
DTSTAMP:20200819T000607Z
URL:https://unswoc.org/wordpress/events/blue-lake-ice-climbing/
SUMMARY:Blue lake ice climbing - cancelled due to weather :'(
DESCRIPTION:Thanks to the introduction of the UNSWOC beanie grant\, snow an
 d ice have made a come back to the club - get excited!! It is compulsory t
 hat you have attended an intro to snow and ice workshop or contacted me se
 parately in order to attend this trip.\n\nThe plan is drive down on Friday
  morning\, walk to Blue Lake and set up camp. We'll spend Saturday doing s
 ome ice climbing and then get an early night ready for more ice climbing o
 n Sunday. We'll then walk out in the arvo on Sunday and drive back to Sydn
 ey on Sunday evening.\n\nPrevious snow experience is preferred and it is b
 eneficial if you are comfortable lead climbing outdoors. Please detail any
  snow\, hiking\, climbing\, skiing or general outdoors experience in the c
 omments :)\n\nYou will NEED the following equipment for the trip:\n\n 	Cra
 mpons*\n 	Ice tools*\n 	Mountaineering boots/crampon compatible touring bo
 ots**\n 	Snow shoes/skis**\n 	Warm socks\n 	Gaitors\n 	Hiking pants\n 	Wat
 erproof over-trousers\n 	Thermal leggings\n 	Thermal top\n 	Long sleeve\, 
 breathable top\n 	Warm fleece\n 	Belay jacket or equivalent\n 	Waterproof 
 jacket\n 	Sunglasses (min cat. 3)\n 	Buff/balaclava\n 	Beanie\n 	Thick\, w
 aterproof gloves\n 	Liner gloves\n 	Lip balm\n 	Sunscreen\n 	Harness***\n 
 	Helmet***\n 	ATC and locking biner***\n 	4 season tent\, with snow pegs*\
 n 	Sleeping bag rated for negative temperatures\n 	Sleeping bag liner\n 	W
 arm sleeping mat or foam sleeping mat AND inflatable sleeping mat\n 	Stove
 \n 	Food for the weekend\n 	Hand sanitizer\n 	Head torch\n 	Poo bag\n 	Per
 sonal toiletries/first aid kit\n 	Pack to carry all of the above (as well 
 as the shared gear not listed here such as ropes*\, trad rad*\, ice screws
 *\, ice tools*\, snow shovels*)\n\n*Club has a limited supply\, the trip l
 eaders will bring everything there is and we'll have to share among everyo
 ne\n\n**If you don't have these\, they can be hired in Cooma\n\n***Can be 
 borrowed from the club gear cupboard at the Thursday gear night\n\nAny que
 stions\, send me a message (Jenny Stansby) on facebook!\nPhoto: K7 Adventu
 res
CATEGORIES:Snow
END:VEVENT
BEGIN:VTIMEZONE
TZID:Australia/Sydney
X-LIC-LOCATION:Australia/Sydney
BEGIN:STANDARD
DTSTART:20200405T020000
TZOFFSETFROM:+1100
TZOFFSETTO:+1000
TZNAME:AEST
END:STANDARD
END:VTIMEZONE
END:VCALENDAR