BEGIN:VCALENDAR
VERSION:2.0
PRODID:-//wp-events-plugin.com//7.2.3.1//EN
TZID:Australia/Sydney
X-WR-TIMEZONE:Australia/Sydney
BEGIN:VEVENT
UID:2259@unswoc.org
DTSTART:20180622T200000Z
DTEND:20180624T100000Z
DTSTAMP:20180618T111222Z
URL:https://unswoc.org/wordpress/events/blackheath-to-blue-gum/
SUMMARY:Blackheath to blue gum
DESCRIPTION:So\, Here is a bum buster for ya\n\nBlackheath to blue gum is 
 an overnight loop that is accessible from the train station. It goes down
  into the blue gum forest which is a beautiful untouched part of the b
 lueies. We will be camping at acacia flats and making our way up govett
 s leap the next day. Leaving Sydney at 7:00am and returning the followin
 g evening. Driving is also fine if you have a car.\n\nIf you don't have eq
 uipment make sure you can get to gear cupboard on Wednesday.\n\nIt's getti
 ng to be winter so make sure you have warm clothes.\n\nHere is the info if
  you wanna check it out.\n\nhttp://www.wildwalks.com/bushwalking-and-hikin
 g-in-nsw/blue-mountains-blackheath-/blackhealth-to-blue-gum-loop.html\n\nI
 f you have any questions you can message me on facebook under "Mira bug"
CATEGORIES:Hectic Hiking
END:VEVENT
END:VCALENDAR