BEGIN:VCALENDAR
VERSION:2.0
PRODID:-//wp-events-plugin.com//7.2.3.1//EN
TZID:Australia/Sydney
X-WR-TIMEZONE:Australia/Sydney
BEGIN:VEVENT
UID:824@unswoc.org
DTSTART;VALUE=DATE:20150403
DTEND;VALUE=DATE:20150407
DTSTAMP:20150323T005046Z
URL:https://unswoc.org/wordpress/events/black-range-bouldering-easter-trip
 /
SUMMARY:Black Range Bouldering - Easter Trip
DESCRIPTION:Hey Crushers\,\n\nOver this Easter long weekend a bunch of the 
 boulderers will be heading down to the North Black Range (about an hour fr
 om Canberra). Plenty of places to camp and you can walk out of your tent\,
  have your coffee and get straight on the rock!\n\nA guide is available on
  the crag here and I will also be bringing a printed one - there is plenty
  of bouldering for people of all skill levels\, with literally hundreds of
  problems!\n\nhttp://www.thecrag.com/climbing/australia/black-range-boulde
 ring
CATEGORIES:Outdoor Climbing
LOCATION:North Black Range\, N Blackrangefire Trail\, Forbes Creek\, NSW\, 
 2621\, Australia
GEO:-35.437836;149.542007
X-APPLE-STRUCTURED-LOCATION;VALUE=URI;X-ADDRESS=N Blackrangefire Trail\, Fo
 rbes Creek\, NSW\, 2621\, Australia;X-APPLE-RADIUS=100;X-TITLE=North Black
  Range:geo:-35.437836,149.542007
END:VEVENT
END:VCALENDAR