BEGIN:VCALENDAR
VERSION:2.0
PRODID:-//wp-events-plugin.com//7.2.3.1//EN
TZID:Australia/Sydney
X-WR-TIMEZONE:Australia/Sydney
BEGIN:VEVENT
UID:2560@unswoc.org
DTSTART;TZID=Australia/Sydney;VALUE=DATE:20191026
DTEND;TZID=Australia/Sydney;VALUE=DATE:20191027
DTSTAMP:20191019T014131Z
URL:https://unswoc.org/wordpress/events/bl-trad-climbing-saturday/
SUMMARY:BL Saturday - Trad Climbing to Old Baldy
DESCRIPTION:*You must be approved for the main Boree Log event to come on t
 his trip*\n\nThe superstar Vicky and I (Maria) are leading a multipitch tr
 ad climbing trip to the Upper Cliff of Old Baldy. By far the best trip in 
 Boree Log! (Biased opinion\, but check the link below to see the climbs!)\
 n\nhttps://www.thecrag.com/climbing/australia/wolgan-valley/area/12042559\
 n\nTo come on this trip you MUST\n\n 	Know how to LEAD BELAY\n 	Have clim
 bed TRAD before or be a strong sport climber (grade 16-18+ outdoors)\n\nIn
  this trip you can learn or practise a bit about\n\n 	Trad placements\n 	T
 rad anchors\n 	Multipitch technique\n 	Plus climb a really awesome 100m cl
 iff!\n\nWe will borrow the gear from the Boree Log directly. Please\, brin
 g any personal climbing gear that you have. If you have a car\, you'll get
  preference! For the day you will need water and food\, appropiate clothin
 g for climbing\, personal meds (if needed) and a HEADTORCH.\n\n*Comment yo
 ur previous climbing experience so we know if this trip is for you*\n\nI'm
  super excited already so sign up! Cheers\, Maria &amp\; Vicky :)
CATEGORIES:Outdoor Climbing
END:VEVENT
BEGIN:VTIMEZONE
TZID:Australia/Sydney
X-LIC-LOCATION:Australia/Sydney
BEGIN:DAYLIGHT
DTSTART:20191006T030000
TZOFFSETFROM:+1000
TZOFFSETTO:+1100
TZNAME:AEDT
END:DAYLIGHT
END:VTIMEZONE
END:VCALENDAR