BEGIN:VCALENDAR
VERSION:2.0
PRODID:-//wp-events-plugin.com//7.2.3.1//EN
TZID:Australia/Sydney
X-WR-TIMEZONE:Australia/Sydney
BEGIN:VEVENT
UID:2139@unswoc.org
DTSTART;VALUE=DATE:20170402
DTEND;VALUE=DATE:20170403
DTSTAMP:20170330T032538Z
URL:https://unswoc.org/wordpress/events/bl-sunday-yileen-canyon-beginner-f
 riendly/
SUMMARY:BL Sunday - Yileen Canyon - Beginner friendly
DESCRIPTION:Hi everyone :)\n\nPhil and I will be running a beginner-friendl
 y canyon on Sunday of Boree Log. Please PM me with 1) your previous experi
 ence canyoning/abseiling\, and 2) whether you have a car.\n\nWhat you'll n
 eed:\n\n	club-provided:\n\n	harness\n	helmet\n	ATC and locking biner\n	sli
 ng and locking biner\n\n\n	Bring yourself:\n\n	Wetsuit (the club has some 
 wetsuits but there may not be enough/may not have your size)\n	thermals (b
 oth to wear under your wetsuit for warmth and a SPARE SET OF DRY THERMALS 
 to keep in a DRY BAG for emergencies)\n	beanie and rain jacket/windbreaker
 \n	lunch and water (in a backpack)\n	closed shoes and woollen (or syntheti
 c socks)\n	headtorch/handheld torchlight\n\n\n\nimportant: NO COTTON\n\nSe
 e you there! :)\n\n&nbsp\;\n\nNicola\n\n&nbsp\;
CATEGORIES:Boree Log,Canyoning
END:VEVENT
END:VCALENDAR