BEGIN:VCALENDAR
VERSION:2.0
PRODID:-//wp-events-plugin.com//7.2.3.1//EN
TZID:Australia/Sydney
X-WR-TIMEZONE:Australia/Sydney
BEGIN:VEVENT
UID:2572@unswoc.org
DTSTART;TZID=Australia/Sydney;VALUE=DATE:20191027
DTEND;TZID=Australia/Sydney;VALUE=DATE:20191028
DTSTAMP:20191021T122907Z
URL:https://unswoc.org/wordpress/events/bl-sunday-timber-chute-canyon/
SUMMARY:BL Sunday – Timber Chute Canyon
DESCRIPTION:Intermediate difficulty trip suitable for people with a sense o
 f adventure. You must be attending and approved for the Boree Log main eve
 nt to sign up for this trip.\n\nBack in the day when Newnes was a thriving
  mining town\, they used to fell trees on the plateau and transport the lo
 gs down a canyon. Well\, that’s the story I’ve been told. Join me and 
 visit this hidden treasure\, which is nowadays known by only a few lucky p
 eople!\n\n\n\nWe’ll start the hike from the Newnes campground on Sunday 
 morning\, once everyone has recovered sufficiently from their hangovers. T
 he trip is about 5.8 km return (about 4.4 km along tracks and 1.4 km of bu
 sh bashing) and will take around 5 hours. To find out what you’re in for
 \, check out this blog post (written by someone else). For those intereste
 d\, this is a good opportunity to practice your navigation skills. If you 
 want to avoid having your legs covered in scratches and bruises\, then thi
 s trip probably isn't the best for you.\n\nWhat to expect:\n\n 	bush bashi
 ng (very steep\, no proper walking tracks)\n 	some rock scrambling\n 	no a
 bseils\n 	cool canyon\n 	aussie wildlife (snakes\, spiders and drop bears)
 \n\n&nbsp\;\n\nIn the comments section\, let me know:\n\n 	what shoes you 
 are planning to wear\, and\n 	how you are getting back home (you are drivi
 ng / you need a lift)\n\n&nbsp\;\n\nWhat you need to bring:\n\n 	hiking cl
 othes (expect warm weather)\n 	sturdy hiking shoes (boots with ankle suppo
 rt highly recommended)\n 	strong backpack\n 	lunch and snacks\n 	water (2L
  minimum\, 3L recommended)\n 	headtorch\n 	emergency blanket / bivvy bag\n
 \nWe also encourage you to bring the following: camera\, personal first ai
 d kit\, map and compass\, track notes\, food to share\, fancy costume.
CATEGORIES:Boree Log,Bushwalking
END:VEVENT
BEGIN:VTIMEZONE
TZID:Australia/Sydney
X-LIC-LOCATION:Australia/Sydney
BEGIN:DAYLIGHT
DTSTART:20191006T030000
TZOFFSETFROM:+1000
TZOFFSETTO:+1100
TZNAME:AEDT
END:DAYLIGHT
END:VTIMEZONE
END:VCALENDAR