BEGIN:VCALENDAR
VERSION:2.0
PRODID:-//wp-events-plugin.com//7.2.3.1//EN
TZID:Australia/Sydney
X-WR-TIMEZONE:Australia/Sydney
BEGIN:VEVENT
UID:2852@unswoc.org
DTSTART;TZID=Australia/Sydney;VALUE=DATE:20210221
DTEND;TZID=Australia/Sydney;VALUE=DATE:20210222
DTSTAMP:20210216T014824Z
URL:https://unswoc.org/wordpress/events/bl-sunday-tallowa-dam-kayak/
SUMMARY:BL Sunday - Tallowa dam Kayak
DESCRIPTION:NOTE: Registration for all Boree Log day trips will open on Tue
 sday at 6 pm. You must already be accepted onto the main Boree Log event i
 n order to attend.\n\nFeeling like some some horizontal travelling? Come a
 long for a flat water kayak down the gorge above tallowa dam on Sunday. Th
 e paddle is lovely and has nice spots for lunching and swimming.\n\nThis w
 ill be a pretty chill day on the water. We will still try and cover some m
 ileage though so make sure to bring a hat\, sunscreen\, swimmers\, sun shi
 rt\, a dry bag if you want to take your phone\, lunch and lots of water. W
 e have 6 flat water kayaks.\n\nIf you have any questions message Mira Bug 
 or Liam Viney on facebook\n\n
ATTACH;FMTTYPE=image/jpeg:https://unswoc.org/wordpress/wp-content/uploads/
 2021/02/BD44A1E6-5E4F-44DA-95C4-899DAC7B99D7.jpeg
CATEGORIES:Flat Water Kayaking
END:VEVENT
BEGIN:VTIMEZONE
TZID:Australia/Sydney
X-LIC-LOCATION:Australia/Sydney
BEGIN:DAYLIGHT
DTSTART:20201004T030000
TZOFFSETFROM:+1000
TZOFFSETTO:+1100
TZNAME:AEDT
END:DAYLIGHT
END:VTIMEZONE
END:VCALENDAR