BEGIN:VCALENDAR
VERSION:2.0
PRODID:-//wp-events-plugin.com//7.2.3.1//EN
TZID:Australia/Sydney
X-WR-TIMEZONE:Australia/Sydney
BEGIN:VEVENT
UID:3685@unswoc.org
DTSTART;TZID=Australia/Sydney:20251019T080000
DTEND;TZID=Australia/Sydney:20251019T180000
DTSTAMP:20251010T055523Z
URL:https://unswoc.org/wordpress/events/bl-sunday-fort-rock-intermediate-s
 port/
SUMMARY:[FULL] SUNDAY BL - FORT ROCK Intermediate Sport Climbing
DESCRIPTION:“You need to be approved for the main Boree Log event to atte
 nd these trips. Please sign up for only ONE trip per day. If you get rejec
 ted you can then sign up for another trip\, this just makes it easier for 
 volunteer trip leaders. Please be aware that as the weather is unpredictab
 le\, trip leaders may need to alter trips accordingly”\n\nHey there Crus
 hers\,\n\nWe (Gabe and Marley) will be running a super-duper-chill-as inte
 rmediate/SUPER PRO MAX sport climbing trip on Sunday (the 22nd) to Fort Ro
 ck in the Medlow Bath area in anticipation of escaping the hoards of climb
 ers in the mountains. The link to this crag if u want to geez is here: htt
 ps://www.thecrag.com/en/climbing/australia/blue-mountains/blackheath-area/
 area/12012739\n\nFort Rock is a pretty chill sport crag with only mid grad
 e sport climbs 20 - 23. . We will likely set up a few topropes on any free
 /interesting climbs (if intermediate)\, and maybe get those who are keen t
 o lead the routes too.  If you want to have a geez at the crag before sig
 ning up\, have a look here (you might find something you’re stoked to tr
 y).\n\nAttendees will need the following:\n\nSkills: Lead experience is pr
 etty ideal\, as is outdoor experience.  We understand that not everyone w
 ill be keen to lead their hardest grade while hungover so we will fang up 
 some of the routes to set up toppies if need be.\n\nGear: We will organise
  this at camp before setting off.\n\nBare minimum: A harness\, climbing sh
 oes\, and a helmet (a must). If you do not have these\, we will sort it ou
 t at camp.\n\nPlease bring if you have: Personal anchor device (PAS)\, a b
 elay device (ATC or Gri Gri)\, Cords or Sling\, Carabiners\, Quickdraws\n\
 nWe will grab ropes\, quickdraws\, quads etc\, from the gear tarp of glory
 .\n\nClothing: Knowing that all of you are of course experienced outdoors 
 adventurers I am sure you have looked at the weather for the weekend BEFOR
 E actually getting up there\, but if the weather is good it will likely ge
 t a bit hottttt.  The crag gets mid-arvo sun so we will ideally have an e
 arly start and get TFO by 4ish for a good time at the pub (BEEERZ.  You s
 hould definitely bring warm weather clothing\, but maybe a jumper or wind 
 breaker in case the weather decides to be mean to us. If it’s raining\, 
 we probably will end up all crying (don't worry the rain will hide this so
  you won't get embarrassed) and head to Gateway crag or some other rain pr
 otected shpot (depending on the grade average of our attendeees).\n\nPlz a
 nswer the following question in the trip request comment: What is your fav
 ourite place in Australia you’ve been to?\n\nFood: Bring whatever you wa
 nt for lunch and afternoon tea\, as we will be spending the day at the cra
 g (our advice is to bring something simple and easy\, and also bring sugar
 y stuff for when climbing).\n\nWater: Bring a minimum of 2L.\n\nIf this tr
 ip floats your boat\, then feel free to request to join. Feel free to send
  us a pm on Facebook (Gabe Dickinson or Marley Shaw-McHenry) with any ques
 tions or just to say hello and let us know you’re keen (and will probs m
 ake us more inclined to have you come).
CATEGORIES:Boree Log,Outdoor Climbing
LOCATION:https://www.google.com/maps/dir/?api=1&destination=-33.632532,150.
 272447
END:VEVENT
BEGIN:VTIMEZONE
TZID:Australia/Sydney
X-LIC-LOCATION:Australia/Sydney
BEGIN:DAYLIGHT
DTSTART:20251005T030000
TZOFFSETFROM:+1000
TZOFFSETTO:+1100
TZNAME:AEDT
END:DAYLIGHT
END:VTIMEZONE
END:VCALENDAR