BEGIN:VCALENDAR
VERSION:2.0
PRODID:-//wp-events-plugin.com//7.2.3.1//EN
TZID:Australia/Sydney
X-WR-TIMEZONE:Australia/Sydney
BEGIN:VEVENT
UID:2569@unswoc.org
DTSTART;TZID=Australia/Sydney;VALUE=DATE:20191027
DTEND;TZID=Australia/Sydney;VALUE=DATE:20191028
DTSTAMP:20191024T063009Z
URL:https://unswoc.org/wordpress/events/bl-sunday-dargans-creek-canyon-beg
 inner/
SUMMARY:BL Sunday - **TRIP FULL** Dargan's Creek Canyon (beginner)
DESCRIPTION:Looking for a hella chill Sunday after a huge Saturday trip and
  Saturday night? This is the trip for you!\n\n&nbsp\;\n\nDion and I are ru
 nning Dargan's Creek\, a reasonably short horizontal canyon with some swim
 ming\, scrambling\, and a cool tree climb. It finishes up at damn close wh
 ere you can go for a swim\, rock jump\, rope swing\, or just drive home fo
 r a nap.\n\n&nbsp\;\nIt's a beginners canyon\, so anyone who's fit enough 
 to hike for a couple hours is welcome!\n&nbsp\;\n\nPacking list:\n\n&nbsp\
 ;\n\nWetsuit\n\nDay pack\n\nLunch\n\nWaterbottle\n\nShoes to get wet\n\nHa
 t/sunscreen\n\nCamera if you have one
CATEGORIES:Canyoning
END:VEVENT
BEGIN:VTIMEZONE
TZID:Australia/Sydney
X-LIC-LOCATION:Australia/Sydney
BEGIN:DAYLIGHT
DTSTART:20191006T030000
TZOFFSETFROM:+1000
TZOFFSETTO:+1100
TZNAME:AEDT
END:DAYLIGHT
END:VTIMEZONE
END:VCALENDAR